BEGIN:VCALENDAR
VERSION:2.0
PRODID:icalendar-ruby
CALSCALE:GREGORIAN
METHOD:PUBLISH
BEGIN:VTIMEZONE
TZID:Europe/Moscow
BEGIN:STANDARD
DTSTART:19700101T000000
TZOFFSETFROM:+0300
TZOFFSETTO:+0300
TZNAME:MSK
END:STANDARD
END:VTIMEZONE
BEGIN:VEVENT
DTSTAMP:20260419T120510Z
UID:e484fdf4-8853-4a2e-9433-e21351c63b76
DTSTART;TZID=Europe/Moscow:20220906T101500
DTEND;TZID=Europe/Moscow:20220906T115000
DESCRIPTION:Kullo I.G. B19-603\, S19-103\, S19-602
LOCATION:I-304
SUMMARY:Control Systems Engineering
RRULE:FREQ=WEEKLY;UNTIL=20221220T115000;WKST=MO
END:VEVENT
BEGIN:VEVENT
DTSTAMP:20260419T120510Z
UID:f59eec6d-147d-421d-b060-61ca44190ebd
DTSTART;TZID=Europe/Moscow:20220902T124500
DTEND;TZID=Europe/Moscow:20220902T142000
DESCRIPTION:Kullo I.G. M22-100\, M22-101\, M22-102\, M22-105\, M22-106\, M
 22-108\, M22-112\, M22-113\, M22-115\, M22-117
SUMMARY:Control Systems Engineering
RRULE:FREQ=WEEKLY;UNTIL=20221216T142000;WKST=MO
EXDATE:20221104T124500
END:VEVENT
BEGIN:VEVENT
DTSTAMP:20260419T120510Z
UID:0b55b972-3844-4337-946a-8fc3ead2c0ce
DTSTART;TZID=Europe/Moscow:20220906T124500
DTEND;TZID=Europe/Moscow:20220906T142000
DESCRIPTION:Kullo I.G. S19-501
LOCATION:I-304
SUMMARY:Control Systems Engineering
RRULE:FREQ=WEEKLY;UNTIL=20221220T142000;WKST=MO
END:VEVENT
BEGIN:VEVENT
DTSTAMP:20260419T120510Z
UID:11fa842b-5f44-410d-b5cc-3701ae6a348a
DTSTART;TZID=Europe/Moscow:20220902T143000
DTEND;TZID=Europe/Moscow:20220902T160500
DESCRIPTION:Kullo I.G. M22-602
SUMMARY:Principles of TAC (Theory of Automatic Control)
RRULE:FREQ=WEEKLY;UNTIL=20221216T160500;WKST=MO
EXDATE:20221104T143000
END:VEVENT
BEGIN:VEVENT
DTSTAMP:20260419T120510Z
UID:e99e35f3-bf38-4304-9fbf-6752b7010150
DTSTART;TZID=Europe/Moscow:20220906T143000
DTEND;TZID=Europe/Moscow:20220906T160500
DESCRIPTION:Starodubtsev I.A.\, Kullo I.G. B19-603\, S19-103
LOCATION:I-206a
SUMMARY:Control Systems Engineering
RRULE:FREQ=WEEKLY;UNTIL=20221220T160500;WKST=MO
END:VEVENT
BEGIN:VEVENT
DTSTAMP:20260419T120510Z
UID:e2fa6147-0e73-4734-8bfa-1686c6d291fe
DTSTART;TZID=Europe/Moscow:20220901T143000
DTEND;TZID=Europe/Moscow:20220901T160500
DESCRIPTION:Starodubtsev I.A.\, Kullo I.G. M22-190
LOCATION:I-309
SUMMARY:Monitoring and coltrol of technological parametrs of NPP
RRULE:FREQ=WEEKLY;UNTIL=20221208T160500;INTERVAL=2;WKST=MO
END:VEVENT
BEGIN:VEVENT
DTSTAMP:20260419T120510Z
UID:61005f20-46ee-4567-9db3-b6081855818a
DTSTART;TZID=Europe/Moscow:20220908T143000
DTEND;TZID=Europe/Moscow:20220908T160500
DESCRIPTION:Kullo I.G.\, Starodubtsev I.A. M22-190
LOCATION:I-206a
SUMMARY:Monitoring and coltrol of technological parametrs of NPP
RRULE:FREQ=WEEKLY;UNTIL=20221215T160500;INTERVAL=2;WKST=MO
END:VEVENT
BEGIN:VEVENT
DTSTAMP:20260419T120510Z
UID:ff9aaca1-01bb-4216-800e-441ddd3f2f04
DTSTART;TZID=Europe/Moscow:20220914T143000
DTEND;TZID=Europe/Moscow:20220914T160500
DESCRIPTION:Berestov A.V.\, Kullo I.G. B20-601\, B20-611\, B20-661
LOCATION:I-105
SUMMARY:Principles of TAC (Theory of Automatic Control)
RRULE:FREQ=WEEKLY;UNTIL=20221221T160500;INTERVAL=2;WKST=MO
END:VEVENT
BEGIN:VEVENT
DTSTAMP:20260419T120510Z
UID:41c2313e-4fbe-4b56-83ce-c5d3a3046b42
DTSTART;TZID=Europe/Moscow:20220907T161500
DTEND;TZID=Europe/Moscow:20220907T175000
DESCRIPTION:Berestov A.V.\, Kullo I.G. B20-601\, B20-611\, B20-661
LOCATION:I-105
SUMMARY:Principles of TAC (Theory of Automatic Control)
RRULE:FREQ=WEEKLY;UNTIL=20221221T175000;WKST=MO
END:VEVENT
BEGIN:VEVENT
DTSTAMP:20260419T120510Z
UID:d37ca6c1-4c85-4d30-a634-147b32f39e29
DTSTART;TZID=Europe/Moscow:20220909T161500
DTEND;TZID=Europe/Moscow:20220909T175000
DESCRIPTION:Kullo I.G. M22-602
SUMMARY:Principles of TAC (Theory of Automatic Control)
RRULE:FREQ=WEEKLY;UNTIL=20221216T175000;INTERVAL=2;WKST=MO
EXDATE:20221104T161500
END:VEVENT
BEGIN:VEVENT
DTSTAMP:20260419T120510Z
UID:82b7502d-2ec5-49f0-9016-18d21f9cc08c
DTSTART;TZID=Europe/Moscow:20220907T184500
DTEND;TZID=Europe/Moscow:20220907T202000
DESCRIPTION:Starodubtsev I.A.\, Kullo I.G. M22-165
LOCATION:I-309
SUMMARY:Management and Control of Technological Parameters at NPPs
RRULE:FREQ=WEEKLY;UNTIL=20221214T202000;INTERVAL=2;WKST=MO
END:VEVENT
BEGIN:VEVENT
DTSTAMP:20260419T120510Z
UID:c89273f3-92a9-403a-b7bd-dcb06e6aa15d
DTSTART;TZID=Europe/Moscow:20220914T184500
DTEND;TZID=Europe/Moscow:20220914T202000
DESCRIPTION:Kullo I.G.\, Starodubtsev I.A. M22-165
LOCATION:6A-2
SUMMARY:Management and Control of Technological Parameters at NPPs
RRULE:FREQ=WEEKLY;UNTIL=20221221T202000;INTERVAL=2;WKST=MO
END:VEVENT
END:VCALENDAR
