BEGIN:VCALENDAR
VERSION:2.0
PRODID:icalendar-ruby
CALSCALE:GREGORIAN
METHOD:PUBLISH
BEGIN:VTIMEZONE
TZID:Europe/Moscow
BEGIN:STANDARD
DTSTART:19700101T000000
TZOFFSETFROM:+0300
TZOFFSETTO:+0300
TZNAME:MSK
END:STANDARD
END:VTIMEZONE
BEGIN:VEVENT
DTSTAMP:20260419T120522Z
UID:d87edb1a-0134-4ca2-a873-da54c818387c
DTSTART;TZID=Europe/Moscow:20220902T101500
DTEND;TZID=Europe/Moscow:20220902T115000
DESCRIPTION:Polskiy V.I. M22-100\, M22-101\, M22-102\, M22-105\, M22-106\,
  M22-108\, M22-112\, M22-113\, M22-115\, M22-117\, M22-165
SUMMARY:Materials Science: Environmental Issues
RRULE:FREQ=WEEKLY;UNTIL=20221216T115000;WKST=MO
EXDATE:20221104T101500
END:VEVENT
BEGIN:VEVENT
DTSTAMP:20260419T120522Z
UID:2382406c-79ee-4da9-851b-68332ceca76c
DTSTART;TZID=Europe/Moscow:20220907T101500
DTEND;TZID=Europe/Moscow:20220907T115000
DESCRIPTION:Polskiy V.I.\, Shornikov D.P.\, Skrytnyy V.I. M21-108
LOCATION:B-106A
SUMMARY:
RRULE:FREQ=WEEKLY;UNTIL=20221123T115000;WKST=MO
END:VEVENT
BEGIN:VEVENT
DTSTAMP:20260419T120522Z
UID:453222ff-a595-484b-aa79-1112daf40442
DTSTART;TZID=Europe/Moscow:20220907T124500
DTEND;TZID=Europe/Moscow:20220907T175000
DESCRIPTION:Polskiy V.I.\, Shornikov D.P.\, Skrytnyy V.I. M21-108
LOCATION:B-106A
SUMMARY:
RRULE:FREQ=WEEKLY;UNTIL=20221123T175000;WKST=MO
END:VEVENT
BEGIN:VEVENT
DTSTAMP:20260419T120522Z
UID:c7916aec-7eef-4e45-abe6-a12b12398b3e
DTSTART;TZID=Europe/Moscow:20220905T124500
DTEND;TZID=Europe/Moscow:20220905T142000
DESCRIPTION:Chernov I.I.\, Polskiy V.I.\, Polskiy V.I.\, Krymskaya O.A.
  M21-197
LOCATION:dep.9
SUMMARY:Practical Training (Research Work)
RRULE:FREQ=WEEKLY;UNTIL=20221205T142000;WKST=MO
END:VEVENT
BEGIN:VEVENT
DTSTAMP:20260419T120522Z
UID:8a8663f2-f8ea-4e64-876b-fdf2dff0b504
DTSTART;TZID=Europe/Moscow:20220906T161500
DTEND;TZID=Europe/Moscow:20220906T175000
DESCRIPTION:Polskiy V.I.\, Polyanskiy A.A. B19-103
LOCATION:V-119
SUMMARY:Information and Communication Technologies in Science and Industry
RRULE:FREQ=WEEKLY;UNTIL=20221213T175000;INTERVAL=2;WKST=MO
END:VEVENT
END:VCALENDAR
