BEGIN:VCALENDAR
VERSION:2.0
PRODID:icalendar-ruby
CALSCALE:GREGORIAN
METHOD:PUBLISH
BEGIN:VTIMEZONE
TZID:Europe/Moscow
BEGIN:STANDARD
DTSTART:19700101T000000
TZOFFSETFROM:+0300
TZOFFSETTO:+0300
TZNAME:MSK
END:STANDARD
END:VTIMEZONE
BEGIN:VEVENT
DTSTAMP:20260419T221355Z
UID:7c078a6b-03c5-4165-b2f5-ad27200b0386
DTSTART;TZID=Europe/Moscow:20220906T101500
DTEND;TZID=Europe/Moscow:20220906T115000
DESCRIPTION:Borisov S.N. B22-801\, B22-802\, B22-803
LOCATION:404
SUMMARY:Physical principles of high technologies
RRULE:FREQ=WEEKLY;UNTIL=20221220T115000;WKST=MO
END:VEVENT
BEGIN:VEVENT
DTSTAMP:20260419T221355Z
UID:97f76df9-2e55-4da8-ada3-79bc94d83211
DTSTART;TZID=Europe/Moscow:20220906T124500
DTEND;TZID=Europe/Moscow:20220906T142000
DESCRIPTION:Borisov S.N. B22-801
LOCATION:5-119
SUMMARY:Physical principles of high technologies
RRULE:FREQ=WEEKLY;UNTIL=20221220T142000;WKST=MO
END:VEVENT
BEGIN:VEVENT
DTSTAMP:20260419T221355Z
UID:d8e7b044-c72f-48eb-8523-fe8629708c4d
DTSTART;TZID=Europe/Moscow:20220906T143000
DTEND;TZID=Europe/Moscow:20220906T160500
DESCRIPTION:Borisov S.N. B22-803
LOCATION:5-119
SUMMARY:Physical principles of high technologies
RRULE:FREQ=WEEKLY;UNTIL=20221220T160500;WKST=MO
END:VEVENT
BEGIN:VEVENT
DTSTAMP:20260419T221355Z
UID:361b16d3-e76e-4e4d-aa47-d8f34e92ad97
DTSTART;TZID=Europe/Moscow:20220906T161500
DTEND;TZID=Europe/Moscow:20220906T175000
DESCRIPTION:Borisov S.N. B22-802
LOCATION:5-119
SUMMARY:Physical principles of high technologies
RRULE:FREQ=WEEKLY;UNTIL=20221220T175000;WKST=MO
END:VEVENT
END:VCALENDAR
