BEGIN:VCALENDAR
VERSION:2.0
PRODID:icalendar-ruby
CALSCALE:GREGORIAN
METHOD:PUBLISH
BEGIN:VTIMEZONE
TZID:Europe/Moscow
BEGIN:STANDARD
DTSTART:19700101T000000
TZOFFSETFROM:+0300
TZOFFSETTO:+0300
TZNAME:MSK
END:STANDARD
END:VTIMEZONE
BEGIN:VEVENT
DTSTAMP:20260419T140222Z
UID:88635970-0948-40fe-8012-9f8f897bdcae
DTSTART;TZID=Europe/Moscow:20220905T143000
DTEND;TZID=Europe/Moscow:20220905T170000
DESCRIPTION:Uvarov M.P. B22-605
LOCATION:V-204b
SUMMARY:Informatics (Principles of Programming). Subgroup 2
RRULE:FREQ=WEEKLY;UNTIL=20221219T170000;WKST=MO
END:VEVENT
BEGIN:VEVENT
DTSTAMP:20260419T140222Z
UID:fdf0181b-ce29-4199-88b5-07629612c255
DTSTART;TZID=Europe/Moscow:20220906T184500
DTEND;TZID=Europe/Moscow:20220906T202000
DESCRIPTION:Uvarov M.P. M22-512
LOCATION:V-204b
SUMMARY:Information Systems Architecture. Subgroup 1
RRULE:FREQ=WEEKLY;UNTIL=20221220T202000;WKST=MO
END:VEVENT
END:VCALENDAR
