BEGIN:VCALENDAR
VERSION:2.0
PRODID:icalendar-ruby
CALSCALE:GREGORIAN
METHOD:PUBLISH
BEGIN:VTIMEZONE
TZID:Europe/Moscow
BEGIN:STANDARD
DTSTART:19700101T000000
TZOFFSETFROM:+0300
TZOFFSETTO:+0300
TZNAME:MSK
END:STANDARD
END:VTIMEZONE
BEGIN:VEVENT
DTSTAMP:20260419T221102Z
UID:dcebb2f7-d946-4f95-9b25-9b3916eb90e5
DTSTART;TZID=Europe/Moscow:20220905T124500
DTEND;TZID=Europe/Moscow:20220905T133000
DESCRIPTION:Shifrina A.V. B22-222
LOCATION:NLK-373
SUMMARY:
RRULE:FREQ=WEEKLY;UNTIL=20221219T133000;WKST=MO
END:VEVENT
BEGIN:VEVENT
DTSTAMP:20260419T221102Z
UID:f60bf965-b0c5-472a-976f-29bab930b46e
DTSTART;TZID=Europe/Moscow:20220905T133500
DTEND;TZID=Europe/Moscow:20220905T151500
DESCRIPTION:Shifrina A.V. B22-222
LOCATION:NLK-373
SUMMARY:
RRULE:FREQ=WEEKLY;UNTIL=20221219T151500;WKST=MO
END:VEVENT
BEGIN:VEVENT
DTSTAMP:20260419T221102Z
UID:4f98f1f8-140e-4cb2-95b8-9248615b2ee0
DTSTART;TZID=Europe/Moscow:20220905T143000
DTEND;TZID=Europe/Moscow:20220905T160500
DESCRIPTION:Cheryomhin P.A.\, Shifrina A.V. B19-204\, B19-401
LOCATION:B-221
SUMMARY:Optical Methods in Information Processing
RRULE:FREQ=WEEKLY;UNTIL=20220926T160500;WKST=MO
END:VEVENT
BEGIN:VEVENT
DTSTAMP:20260419T221102Z
UID:8533356b-546e-4c9b-82c4-3acfe287fc5d
DTSTART;TZID=Europe/Moscow:20221003T143000
DTEND;TZID=Europe/Moscow:20221003T160500
DESCRIPTION:Shifrina A.V.\, Cheryomhin P.A. B19-204\, B19-401
LOCATION:B-221
SUMMARY:Optical Methods in Information Processing
RRULE:FREQ=WEEKLY;UNTIL=20221219T160500;WKST=MO
END:VEVENT
END:VCALENDAR
