BEGIN:VCALENDAR
VERSION:2.0
PRODID:icalendar-ruby
CALSCALE:GREGORIAN
METHOD:PUBLISH
BEGIN:VTIMEZONE
TZID:Europe/Moscow
BEGIN:STANDARD
DTSTART:19700101T000000
TZOFFSETFROM:+0300
TZOFFSETTO:+0300
TZNAME:MSK
END:STANDARD
END:VTIMEZONE
BEGIN:VEVENT
DTSTAMP:20260419T221419Z
UID:0ca5f194-3602-4a5c-a063-3c9e71fd5dd5
DTSTART;TZID=Europe/Moscow:20220902T083000
DTEND;TZID=Europe/Moscow:20220902T100500
DESCRIPTION:Kosterev V.V. B22-222
LOCATION:E-212
SUMMARY:Life Safety
RRULE:FREQ=WEEKLY;UNTIL=20221209T100500;INTERVAL=2;WKST=MO
END:VEVENT
BEGIN:VEVENT
DTSTAMP:20260419T221419Z
UID:7e7fe68c-7735-458c-9298-4f13feb23a3c
DTSTART;TZID=Europe/Moscow:20220908T101500
DTEND;TZID=Europe/Moscow:20220908T115000
DESCRIPTION:Kosterev V.V. B20-801\, B20-802
LOCATION:T-209
SUMMARY:Life Safety
RRULE:FREQ=WEEKLY;UNTIL=20221215T115000;INTERVAL=2;WKST=MO
END:VEVENT
BEGIN:VEVENT
DTSTAMP:20260419T221419Z
UID:9c7f11fa-0d78-460f-ac61-aebeaa7cf067
DTSTART;TZID=Europe/Moscow:20220914T101500
DTEND;TZID=Europe/Moscow:20220914T115000
DESCRIPTION:Panin M.P.\, Kosterev V.V. B20-101
LOCATION:E-211a
SUMMARY:Computer Workshop
RRULE:FREQ=WEEKLY;UNTIL=20221221T115000;INTERVAL=2;WKST=MO
END:VEVENT
BEGIN:VEVENT
DTSTAMP:20260419T221419Z
UID:3417cd8a-bb09-422e-8ed3-0d2b4e2ac26f
DTSTART;TZID=Europe/Moscow:20220905T115500
DTEND;TZID=Europe/Moscow:20220905T133000
DESCRIPTION:Kosterev V.V. S18-103
LOCATION:E-212
SUMMARY:Life Safety
RRULE:FREQ=WEEKLY;UNTIL=20221212T133000;INTERVAL=2;WKST=MO
END:VEVENT
BEGIN:VEVENT
DTSTAMP:20260419T221419Z
UID:ed447c56-7cc8-45ab-a108-aaf02d0f5b58
DTSTART;TZID=Europe/Moscow:20220907T143000
DTEND;TZID=Europe/Moscow:20220907T160500
DESCRIPTION:Panin M.P.\, Kosterev V.V. S20-103
LOCATION:E-211a
SUMMARY:Computer Workshop
RRULE:FREQ=WEEKLY;UNTIL=20221214T160500;INTERVAL=2;WKST=MO
END:VEVENT
BEGIN:VEVENT
DTSTAMP:20260419T221419Z
UID:459d6bb3-8ce1-4e1a-a8aa-aaa4d7a2dc48
DTSTART;TZID=Europe/Moscow:20220914T143000
DTEND;TZID=Europe/Moscow:20220914T160500
DESCRIPTION:Panin M.P.\, Kosterev V.V. S20-103
LOCATION:E-211a
SUMMARY:Computer Workshop
RRULE:FREQ=WEEKLY;UNTIL=20221221T160500;INTERVAL=2;WKST=MO
END:VEVENT
BEGIN:VEVENT
DTSTAMP:20260419T221419Z
UID:478f4471-c6ce-4414-8e31-25431735f920
DTSTART;TZID=Europe/Moscow:20220907T161500
DTEND;TZID=Europe/Moscow:20220907T184000
DESCRIPTION:Kosterev V.V. S18-101\, S18-103\, S18-111\, S18-163\, S18-201\
 , S18-202\, S18-401\, S18-402\, S18-602
LOCATION:408
SUMMARY:Life Safety
RRULE:FREQ=WEEKLY;UNTIL=20221221T184000;WKST=MO
END:VEVENT
BEGIN:VEVENT
DTSTAMP:20260419T221419Z
UID:846c885d-fdc1-4c12-8478-22f2a9e29414
DTSTART;TZID=Europe/Moscow:20220901T161500
DTEND;TZID=Europe/Moscow:20220901T175000
DESCRIPTION:Kosterev V.V.\, Panin M.P. B20-101
LOCATION:E-211a
SUMMARY:Computer Workshop
RRULE:FREQ=WEEKLY;UNTIL=20221215T175000;WKST=MO
END:VEVENT
BEGIN:VEVENT
DTSTAMP:20260419T221419Z
UID:e0e65d2b-eec7-49d4-9e2b-6839fb0e4e4d
DTSTART;TZID=Europe/Moscow:20220906T161500
DTEND;TZID=Europe/Moscow:20220906T170000
DESCRIPTION:Panin M.P.\, Kosterev V.V.\, Demin V.M.\, Ksenofontov A.I.\
 , Orlova K.N. M21-190\, M21-191
LOCATION:E-211b
SUMMARY:Radiation protection of Nuclear facilities
RRULE:FREQ=WEEKLY;UNTIL=20221220T170000;WKST=MO
END:VEVENT
BEGIN:VEVENT
DTSTAMP:20260419T221419Z
UID:fae878a3-c58d-442a-886b-69ed04c01b42
DTSTART;TZID=Europe/Moscow:20220906T170500
DTEND;TZID=Europe/Moscow:20220906T184000
DESCRIPTION:Kosterev V.V.\, Panin M.P.\, Demin V.M.\, Ksenofontov A.I.\
 , Orlova K.N. M21-190\, M21-191
LOCATION:E-211b
SUMMARY:Radiation protection of Nuclear facilities
RRULE:FREQ=WEEKLY;UNTIL=20221220T184000;WKST=MO
END:VEVENT
END:VCALENDAR
