BEGIN:VCALENDAR
VERSION:2.0
PRODID:icalendar-ruby
CALSCALE:GREGORIAN
METHOD:PUBLISH
BEGIN:VTIMEZONE
TZID:Europe/Moscow
BEGIN:STANDARD
DTSTART:19700101T000000
TZOFFSETFROM:+0300
TZOFFSETTO:+0300
TZNAME:MSK
END:STANDARD
END:VTIMEZONE
BEGIN:VEVENT
DTSTAMP:20260420T200044Z
UID:42dbb7cd-73a1-4ffc-b432-dc64fc07cd2e
DTSTART;TZID=Europe/Moscow:20220905T083000
DTEND;TZID=Europe/Moscow:20220905T100500
DESCRIPTION:Markevich E.V. B22-361\, B22-362\, B22-464\, B22-564\, B22-565
 \, B22-761\, B22-762\, B22-763
LOCATION:T-100
SUMMARY:Foreign language (Russian)
RRULE:FREQ=WEEKLY;UNTIL=20221219T100500;WKST=MO
END:VEVENT
BEGIN:VEVENT
DTSTAMP:20260420T200044Z
UID:33b3cec3-e3e3-47a8-9bbe-126aa9cc54c4
DTSTART;TZID=Europe/Moscow:20220903T083000
DTEND;TZID=Europe/Moscow:20220903T100500
DESCRIPTION:Markevich E.V. B22-361\, B22-362\, B22-464\, B22-564\, B22-565
 \, B22-761\, B22-762\, B22-763
LOCATION:T-100
SUMMARY:Foreign language (Russian)
RRULE:FREQ=WEEKLY;UNTIL=20221217T100500;WKST=MO
END:VEVENT
BEGIN:VEVENT
DTSTAMP:20260420T200044Z
UID:ec171a4e-f605-4223-9011-bd01b7302a17
DTSTART;TZID=Europe/Moscow:20220905T101500
DTEND;TZID=Europe/Moscow:20220905T115000
DESCRIPTION:Markevich E.V. I22-02
SUMMARY:Russian As a Foreign Language
RRULE:FREQ=WEEKLY;UNTIL=20221031T115000;WKST=MO
END:VEVENT
BEGIN:VEVENT
DTSTAMP:20260420T200044Z
UID:c59ce7a2-d8a4-4766-9752-df72e7193d6d
DTSTART;TZID=Europe/Moscow:20220903T101500
DTEND;TZID=Europe/Moscow:20220903T115000
DESCRIPTION:Markevich E.V. I22-02
SUMMARY:Russian As a Foreign Language
RRULE:FREQ=WEEKLY;UNTIL=20221029T115000;WKST=MO
END:VEVENT
BEGIN:VEVENT
DTSTAMP:20260420T200044Z
UID:818d03a7-3cc7-466f-bc8f-c6e081539ee0
DTSTART;TZID=Europe/Moscow:20220903T124500
DTEND;TZID=Europe/Moscow:20220903T151500
DESCRIPTION:Markevich E.V. I22-02
SUMMARY:Russian As a Foreign Language
RRULE:FREQ=WEEKLY;UNTIL=20221029T151500;WKST=MO
END:VEVENT
BEGIN:VEVENT
DTSTAMP:20260420T200044Z
UID:b7aaac15-753c-437c-abb9-6972fa028211
DTSTART;TZID=Europe/Moscow:20220905T124500
DTEND;TZID=Europe/Moscow:20220905T151500
DESCRIPTION:Markevich E.V. I22-02
SUMMARY:Russian As a Foreign Language
RRULE:FREQ=WEEKLY;UNTIL=20221031T151500;WKST=MO
END:VEVENT
BEGIN:VEVENT
DTSTAMP:20260420T200044Z
UID:4924d462-a938-4633-8e9e-cf499527c77c
DTSTART;TZID=Europe/Moscow:20220905T152000
DTEND;TZID=Europe/Moscow:20220905T170000
DESCRIPTION:Markevich E.V. A22-105\, A22-121\, A22-711
LOCATION:A-215
SUMMARY:Russian As a Foreign Language
RRULE:FREQ=WEEKLY;UNTIL=20221226T170000;WKST=MO
END:VEVENT
BEGIN:VEVENT
DTSTAMP:20260420T200044Z
UID:a642ca73-40b5-480b-a4c0-467a0a1ea02b
DTSTART;TZID=Europe/Moscow:20220903T161500
DTEND;TZID=Europe/Moscow:20220903T175000
DESCRIPTION:Markevich E.V. M22-106\, M22-108\, M22-117\, M22-201\, M22-208
SUMMARY:Russian As a Foreign Language
RRULE:FREQ=WEEKLY;UNTIL=20221217T175000;WKST=MO
END:VEVENT
BEGIN:VEVENT
DTSTAMP:20260420T200044Z
UID:4604212a-4584-4ed5-a554-4e06d57c1300
DTSTART;TZID=Europe/Moscow:20221107T101500
DTEND;TZID=Europe/Moscow:20221107T115000
DESCRIPTION:Markevich E.V. I22-02
LOCATION:A-215
SUMMARY:Russian As a Foreign Language
RRULE:FREQ=WEEKLY;UNTIL=20230123T115000;WKST=MO
EXDATE:20230102T101500
END:VEVENT
BEGIN:VEVENT
DTSTAMP:20260420T200044Z
UID:6e15ecb3-8c0d-4b8a-8855-f0789848042b
DTSTART;TZID=Europe/Moscow:20221105T101500
DTEND;TZID=Europe/Moscow:20221105T115000
DESCRIPTION:Markevich E.V. I22-02
LOCATION:T-100
SUMMARY:Russian As a Foreign Language
RRULE:FREQ=WEEKLY;UNTIL=20230121T115000;WKST=MO
EXDATE:20230107T101500
END:VEVENT
BEGIN:VEVENT
DTSTAMP:20260420T200044Z
UID:2c5125a3-6e28-47f3-ad68-351fb0a9601c
DTSTART;TZID=Europe/Moscow:20221105T124500
DTEND;TZID=Europe/Moscow:20221105T151500
DESCRIPTION:Markevich E.V. I22-02
LOCATION:T-100
SUMMARY:Russian As a Foreign Language
RRULE:FREQ=WEEKLY;UNTIL=20230121T151500;WKST=MO
EXDATE:20230107T124500
END:VEVENT
BEGIN:VEVENT
DTSTAMP:20260420T200044Z
UID:3ba6c4c6-3ffc-49c4-8187-50d8fb337fe7
DTSTART;TZID=Europe/Moscow:20221107T124500
DTEND;TZID=Europe/Moscow:20221107T151500
DESCRIPTION:Markevich E.V. I22-02
LOCATION:A-215
SUMMARY:Russian As a Foreign Language
RRULE:FREQ=WEEKLY;UNTIL=20230123T151500;WKST=MO
EXDATE:20230102T124500
END:VEVENT
END:VCALENDAR
