BEGIN:VCALENDAR
VERSION:2.0
PRODID:icalendar-ruby
CALSCALE:GREGORIAN
METHOD:PUBLISH
BEGIN:VTIMEZONE
TZID:Europe/Moscow
BEGIN:STANDARD
DTSTART:19700101T000000
TZOFFSETFROM:+0300
TZOFFSETTO:+0300
TZNAME:MSK
END:STANDARD
END:VTIMEZONE
BEGIN:VEVENT
DTSTAMP:20260420T215023Z
UID:e6217876-a089-4b36-87be-72c6506839ff
DTSTART;TZID=Europe/Moscow:20160901T101500
DTEND;TZID=Europe/Moscow:20160901T115000
DESCRIPTION:Nikitin A.A.\, Kraevskiy S.V.\, Korchuganova O.A.\, Bogachev
  A.A.\, Aleev A.A.\, Kozodaev M.A. B13-002
LOCATION:ITEF
SUMMARY:Experimental Techniques in Ultramicroscopy. Subgroup 1
RRULE:FREQ=WEEKLY;UNTIL=20161215T115000;WKST=MO
END:VEVENT
BEGIN:VEVENT
DTSTAMP:20260420T215023Z
UID:05fec385-506d-4845-8809-6d9224c1d73f
DTSTART;TZID=Europe/Moscow:20160905T115500
DTEND;TZID=Europe/Moscow:20160905T133000
DESCRIPTION:Kozodaev M.A.\, Aleev A.A.\, Bogachev A.A.\, Korchuganova O
 .A.\, Kraevskiy S.V.\, Nikitin A.A. M15-115
LOCATION:ITEF
SUMMARY:Ultramicroscopy Techniques in Condensed Matter Physics
RRULE:FREQ=WEEKLY;UNTIL=20161219T133000;WKST=MO
END:VEVENT
BEGIN:VEVENT
DTSTAMP:20260420T215023Z
UID:8b852c01-009e-41a0-a51e-def0c77f2d18
DTSTART;TZID=Europe/Moscow:20160901T115500
DTEND;TZID=Europe/Moscow:20160901T133000
DESCRIPTION:Nikitin A.A.\, Kraevskiy S.V.\, Korchuganova O.A.\, Bogachev
  A.A.\, Aleev A.A.\, Kozodaev M.A. B13-002
LOCATION:ITEF
SUMMARY:Experimental Techniques in Ultramicroscopy
RRULE:FREQ=WEEKLY;UNTIL=20161215T133000;WKST=MO
END:VEVENT
BEGIN:VEVENT
DTSTAMP:20260420T215023Z
UID:d08be787-8089-4600-9e57-077e708caa3b
DTSTART;TZID=Europe/Moscow:20160912T133500
DTEND;TZID=Europe/Moscow:20160912T151500
DESCRIPTION:Nikitin A.A.\, Kraevskiy S.V.\, Korchuganova O.A.\, Bogachev
  A.A.\, Aleev A.A.\, Kozodaev M.A. M15-115
LOCATION:ITEF
SUMMARY:Ultramicroscopy Techniques in Condensed Matter Physics
RRULE:FREQ=WEEKLY;UNTIL=20161219T151500;INTERVAL=2;WKST=MO
END:VEVENT
BEGIN:VEVENT
DTSTAMP:20260420T215023Z
UID:431f8bcd-bdf6-4a12-a22c-9de9b924efb8
DTSTART;TZID=Europe/Moscow:20160906T161500
DTEND;TZID=Europe/Moscow:20160906T175000
DESCRIPTION:Kozodaev M.A.\, Aleev A.A.\, Bogachev A.A.\, Korchuganova O
 .A.\, Kraevskiy S.V.\, Nikitin A.A. B13-002
LOCATION:ITEF
SUMMARY:Experimental Techniques in Ultramicroscopy
RRULE:FREQ=WEEKLY;UNTIL=20161213T175000;INTERVAL=2;WKST=MO
END:VEVENT
BEGIN:VEVENT
DTSTAMP:20260420T215023Z
UID:6740c66e-afbe-4676-b1ee-5868077296bb
DTSTART;TZID=Europe/Moscow:20160905T175500
DTEND;TZID=Europe/Moscow:20160905T193000
DESCRIPTION:Nikitin A.A.\, Kraevskiy S.V.\, Korchuganova O.A.\, Bogachev
  A.A.\, Aleev A.A.\, Kozodaev M.A. B13-002
LOCATION:ITEF
SUMMARY:Experimental Techniques in Ultramicroscopy. Subgroup 2
RRULE:FREQ=WEEKLY;UNTIL=20161219T193000;WKST=MO
END:VEVENT
END:VCALENDAR
