BEGIN:VCALENDAR
VERSION:2.0
PRODID:icalendar-ruby
CALSCALE:GREGORIAN
METHOD:PUBLISH
BEGIN:VTIMEZONE
TZID:Europe/Moscow
BEGIN:STANDARD
DTSTART:19700101T000000
TZOFFSETFROM:+0300
TZOFFSETTO:+0300
TZNAME:MSK
END:STANDARD
END:VTIMEZONE
BEGIN:VEVENT
DTSTAMP:20260420T071610Z
UID:afad8c91-58a7-44a9-9cea-2a8ad68a4c48
DTSTART;TZID=Europe/Moscow:20160907T083000
DTEND;TZID=Europe/Moscow:20160907T091500
DESCRIPTION:Nechitaylo V.A.\, Rogozhkin S.V. M15-115
LOCATION:ITEF
SUMMARY:Wavelets for Experimental Data Analysis
RRULE:FREQ=WEEKLY;UNTIL=20161214T091500;INTERVAL=2;WKST=MO
END:VEVENT
BEGIN:VEVENT
DTSTAMP:20260420T071610Z
UID:ed492b89-47d4-4900-b65f-0b0ec35c3cf2
DTSTART;TZID=Europe/Moscow:20160906T083000
DTEND;TZID=Europe/Moscow:20160906T115000
DESCRIPTION:Tyulyusov A.N.\, Nechitaylo V.A.\, Nazarov A.V. B13-002
LOCATION:ITEF
SUMMARY:Physical Processes and Experimental Data Processing: Simulation Met
 hods
RRULE:FREQ=WEEKLY;UNTIL=20161018T115000;INTERVAL=2;WKST=MO
END:VEVENT
BEGIN:VEVENT
DTSTAMP:20260420T071610Z
UID:8ad4a72b-f12f-4626-9ee7-2f13863f1bc7
DTSTART;TZID=Europe/Moscow:20160914T083000
DTEND;TZID=Europe/Moscow:20160914T091500
DESCRIPTION:Rogozhkin S.V.\, Nechitaylo V.A. M15-115
LOCATION:ITEF
SUMMARY:Wavelets for Experimental Data Analysis
RRULE:FREQ=WEEKLY;UNTIL=20161221T091500;INTERVAL=2;WKST=MO
END:VEVENT
BEGIN:VEVENT
DTSTAMP:20260420T071610Z
UID:59231ee1-c145-4721-8c41-c8d783ed8fb4
DTSTART;TZID=Europe/Moscow:20160913T083000
DTEND;TZID=Europe/Moscow:20160913T115000
DESCRIPTION:Tyulyusov A.N.\, Nechitaylo V.A.\, Nazarov A.V. B13-002
LOCATION:ITEF
SUMMARY:Physical Processes and Experimental Data Processing: Simulation Met
 hods
RRULE:FREQ=WEEKLY;UNTIL=20161220T115000;INTERVAL=2;WKST=MO
END:VEVENT
BEGIN:VEVENT
DTSTAMP:20260420T071610Z
UID:b2b0e5ad-dca7-42cb-8ad9-f7af5fea4887
DTSTART;TZID=Europe/Moscow:20160907T092000
DTEND;TZID=Europe/Moscow:20160907T110000
DESCRIPTION:Rogozhkin S.V.\, Nechitaylo V.A. M15-115
LOCATION:ITEF
SUMMARY:Wavelets for Experimental Data Analysis
RRULE:FREQ=WEEKLY;UNTIL=20161221T110000;WKST=MO
END:VEVENT
BEGIN:VEVENT
DTSTAMP:20260420T071610Z
UID:36da8d98-c7fc-4752-9ade-f50dad4efa6f
DTSTART;TZID=Europe/Moscow:20160913T161500
DTEND;TZID=Europe/Moscow:20160913T175000
DESCRIPTION:Nechitaylo V.A.\, Nazarov A.V.\, Tyulyusov A.N. B13-002
LOCATION:ITEF
SUMMARY:Physical Processes and Experimental Data Processing: Simulation Met
 hods
RRULE:FREQ=WEEKLY;UNTIL=20161220T175000;INTERVAL=2;WKST=MO
END:VEVENT
BEGIN:VEVENT
DTSTAMP:20260420T071610Z
UID:9a09fa8e-9cdc-46db-9686-5a19c7553527
DTSTART;TZID=Europe/Moscow:20161101T083000
DTEND;TZID=Europe/Moscow:20161101T115000
DESCRIPTION:Tyulyusov A.N.\, Nazarov A.V.\, Nechitaylo V.A. B13-002
LOCATION:ITEF
SUMMARY:Physical Processes and Experimental Data Processing: Simulation Met
 hods
RRULE:FREQ=WEEKLY;UNTIL=20161213T115000;INTERVAL=2;WKST=MO
END:VEVENT
END:VCALENDAR
