BEGIN:VCALENDAR
VERSION:2.0
PRODID:icalendar-ruby
CALSCALE:GREGORIAN
METHOD:PUBLISH
BEGIN:VTIMEZONE
TZID:Europe/Moscow
BEGIN:STANDARD
DTSTART:19700101T000000
TZOFFSETFROM:+0300
TZOFFSETTO:+0300
TZNAME:MSK
END:STANDARD
END:VTIMEZONE
BEGIN:VEVENT
DTSTAMP:20260419T184157Z
UID:c863e24a-a9f1-4ead-a14a-3bcfa90740ff
DTSTART;TZID=Europe/Moscow:20160906T083000
DTEND;TZID=Europe/Moscow:20160906T100500
DESCRIPTION:Safonenko V.A. M16-113
LOCATION:I-309
SUMMARY:Information Technology: Theoretical Basis
RRULE:FREQ=WEEKLY;UNTIL=20161220T100500;WKST=MO
END:VEVENT
BEGIN:VEVENT
DTSTAMP:20260419T184157Z
UID:3f223f8b-9be1-4634-8d06-145a58a818f7
DTSTART;TZID=Europe/Moscow:20160912T083000
DTEND;TZID=Europe/Moscow:20160912T100500
DESCRIPTION:Safonenko V.A. S12-101\, S12-102\, S12-103
LOCATION:405
SUMMARY:Computer Systems and Networks
RRULE:FREQ=WEEKLY;UNTIL=20161219T100500;INTERVAL=2;WKST=MO
END:VEVENT
BEGIN:VEVENT
DTSTAMP:20260419T184157Z
UID:30af702c-1e4f-4033-b1a3-ba538bb28a2a
DTSTART;TZID=Europe/Moscow:20160907T101500
DTEND;TZID=Europe/Moscow:20160907T115000
DESCRIPTION:Safonenko V.A. B13-101
LOCATION:I-309
SUMMARY:Information Technology
RRULE:FREQ=WEEKLY;UNTIL=20161221T115000;WKST=MO
END:VEVENT
BEGIN:VEVENT
DTSTAMP:20260419T184157Z
UID:dcba0889-d19d-4fda-ae2e-980b5b133110
DTSTART;TZID=Europe/Moscow:20160905T101500
DTEND;TZID=Europe/Moscow:20160905T115000
DESCRIPTION:Safonenko V.A. S12-103
LOCATION:I-206a
SUMMARY:Computer Systems and Networks
RRULE:FREQ=WEEKLY;UNTIL=20161219T115000;WKST=MO
END:VEVENT
BEGIN:VEVENT
DTSTAMP:20260419T184157Z
UID:99ae7e32-fe63-4c76-9679-ce03237de8f1
DTSTART;TZID=Europe/Moscow:20160906T101500
DTEND;TZID=Europe/Moscow:20160906T115000
DESCRIPTION:Safonenko V.A. S12-102
LOCATION:I-206a
SUMMARY:Computer Systems and Networks
RRULE:FREQ=WEEKLY;UNTIL=20161213T115000;INTERVAL=2;WKST=MO
END:VEVENT
BEGIN:VEVENT
DTSTAMP:20260419T184157Z
UID:86e8523c-1155-4ca3-a35d-07817acab1b7
DTSTART;TZID=Europe/Moscow:20160910T101500
DTEND;TZID=Europe/Moscow:20160910T133000
DESCRIPTION:Safonenko V.A. S13-103
LOCATION:I-309
SUMMARY:Theoretical Principles of Information Technology
RRULE:FREQ=WEEKLY;UNTIL=20161217T133000;INTERVAL=2;WKST=MO
END:VEVENT
BEGIN:VEVENT
DTSTAMP:20260419T184157Z
UID:3fb61b2f-7511-48eb-9429-f39806132c41
DTSTART;TZID=Europe/Moscow:20160905T115500
DTEND;TZID=Europe/Moscow:20160905T133000
DESCRIPTION:Safonenko V.A. M15-103\, M15-104
LOCATION:I-206a
SUMMARY:Computer Technology
RRULE:FREQ=WEEKLY;UNTIL=20161212T133000;INTERVAL=2;WKST=MO
END:VEVENT
BEGIN:VEVENT
DTSTAMP:20260419T184157Z
UID:17027945-9a71-42e5-a1ff-d76d3094c579
DTSTART;TZID=Europe/Moscow:20160912T115500
DTEND;TZID=Europe/Moscow:20160912T133000
DESCRIPTION:Safonenko V.A. M15-103\, M15-104
LOCATION:6A-2
SUMMARY:Computer Technology
RRULE:FREQ=WEEKLY;UNTIL=20161219T133000;INTERVAL=2;WKST=MO
END:VEVENT
BEGIN:VEVENT
DTSTAMP:20260419T184157Z
UID:ab0ba1ac-ebe5-4e03-9723-f325bda3de42
DTSTART;TZID=Europe/Moscow:20160906T124500
DTEND;TZID=Europe/Moscow:20160906T142000
DESCRIPTION:Safonenko V.A. M16-163
LOCATION:6A-2
SUMMARY:Information Technology: Theoretical Basis
RRULE:FREQ=WEEKLY;UNTIL=20161220T142000;WKST=MO
END:VEVENT
BEGIN:VEVENT
DTSTAMP:20260419T184157Z
UID:350c1973-8fc1-44a5-9f7a-679788fa2a47
DTSTART;TZID=Europe/Moscow:20160902T124500
DTEND;TZID=Europe/Moscow:20160902T142000
DESCRIPTION:Safonenko V.A. S13-102
LOCATION:I-309
SUMMARY:Theoretical Principles of Information Technology
RRULE:FREQ=WEEKLY;UNTIL=20161216T142000;WKST=MO
EXDATE:20161104T124500
END:VEVENT
BEGIN:VEVENT
DTSTAMP:20260419T184157Z
UID:8604e1ac-629a-4264-85f5-db031887efa7
DTSTART;TZID=Europe/Moscow:20160903T143000
DTEND;TZID=Europe/Moscow:20160903T160500
DESCRIPTION:Safonenko V.A. S12-102
LOCATION:6A-2
SUMMARY:Computer Systems and Networks
RRULE:FREQ=WEEKLY;UNTIL=20161217T160500;WKST=MO
END:VEVENT
BEGIN:VEVENT
DTSTAMP:20260419T184157Z
UID:6fb3c85f-b0aa-409b-a26a-18c9a6943ab8
DTSTART;TZID=Europe/Moscow:20160905T143000
DTEND;TZID=Europe/Moscow:20160905T160500
DESCRIPTION:Safonenko V.A. S12-101
LOCATION:6A-2
SUMMARY:Computer Systems and Networks
RRULE:FREQ=WEEKLY;UNTIL=20161219T160500;WKST=MO
END:VEVENT
BEGIN:VEVENT
DTSTAMP:20260419T184157Z
UID:c955c67a-789c-4d65-8a6f-c7b212cb1cf3
DTSTART;TZID=Europe/Moscow:20160907T143000
DTEND;TZID=Europe/Moscow:20160907T160500
DESCRIPTION:Safonenko V.A. S13-161
LOCATION:I-309
SUMMARY:Theoretical Principles of Information Technology
RRULE:FREQ=WEEKLY;UNTIL=20161221T160500;WKST=MO
END:VEVENT
BEGIN:VEVENT
DTSTAMP:20260419T184157Z
UID:f93de588-3c27-4ffc-9660-15fce386b7ce
DTSTART;TZID=Europe/Moscow:20160906T143000
DTEND;TZID=Europe/Moscow:20160906T160500
DESCRIPTION:Safonenko V.A. S12-101
LOCATION:6A-2
SUMMARY:Computer Systems and Networks
RRULE:FREQ=WEEKLY;UNTIL=20161213T160500;INTERVAL=2;WKST=MO
END:VEVENT
BEGIN:VEVENT
DTSTAMP:20260419T184157Z
UID:6cb1cb20-7dd8-4961-80a0-8e455e290111
DTSTART;TZID=Europe/Moscow:20160913T143000
DTEND;TZID=Europe/Moscow:20160913T160500
DESCRIPTION:Safonenko V.A. S12-103
LOCATION:6A-2
SUMMARY:Computer Systems and Networks
RRULE:FREQ=WEEKLY;UNTIL=20161220T160500;INTERVAL=2;WKST=MO
END:VEVENT
BEGIN:VEVENT
DTSTAMP:20260419T184157Z
UID:e2663f29-20b5-49c1-968e-32fff20be4c1
DTSTART;TZID=Europe/Moscow:20160906T161500
DTEND;TZID=Europe/Moscow:20160906T175000
DESCRIPTION:Safonenko V.A. M15-103\, M15-104
LOCATION:I-206a
SUMMARY:Computer Technology
RRULE:FREQ=WEEKLY;UNTIL=20161220T175000;WKST=MO
END:VEVENT
BEGIN:VEVENT
DTSTAMP:20260419T184157Z
UID:83765c68-d915-4050-98b8-9487db1c571b
DTSTART;TZID=Europe/Moscow:20160907T161500
DTEND;TZID=Europe/Moscow:20160907T175000
DESCRIPTION:Safonenko V.A. S13-101
LOCATION:I-309
SUMMARY:Theoretical Principles of Information Technology
RRULE:FREQ=WEEKLY;UNTIL=20161221T175000;WKST=MO
END:VEVENT
BEGIN:VEVENT
DTSTAMP:20260419T184157Z
UID:8c206fbf-8383-403d-9c78-610ba5b2b9e0
DTSTART;TZID=Europe/Moscow:20161029T140000
DTEND;TZID=Europe/Moscow:20161029T214500
DESCRIPTION:Safonenko V.A. M15-181
LOCATION:I-206a
SUMMARY:Computer Technology
END:VEVENT
BEGIN:VEVENT
DTSTAMP:20260419T184157Z
UID:67c52bbc-95ed-4691-89c9-9e64f0b3756e
DTSTART;TZID=Europe/Moscow:20161105T140000
DTEND;TZID=Europe/Moscow:20161105T214500
DESCRIPTION:Safonenko V.A. M15-181
LOCATION:I-204
SUMMARY:Computer Technology
END:VEVENT
END:VCALENDAR
