BEGIN:VCALENDAR
VERSION:2.0
PRODID:icalendar-ruby
CALSCALE:GREGORIAN
METHOD:PUBLISH
BEGIN:VTIMEZONE
TZID:Europe/Moscow
BEGIN:STANDARD
DTSTART:19700101T000000
TZOFFSETFROM:+0300
TZOFFSETTO:+0300
TZNAME:MSK
END:STANDARD
END:VTIMEZONE
BEGIN:VEVENT
DTSTAMP:20260419T221403Z
UID:f91e3471-570b-431e-824b-5aec72c4b765
DTSTART;TZID=Europe/Moscow:20160910T083000
DTEND;TZID=Europe/Moscow:20160910T100500
DESCRIPTION:Shuvalov V.B. S13-501
LOCATION:K-213
SUMMARY:Principles of Control Theory (Efficiency Theory)
RRULE:FREQ=WEEKLY;UNTIL=20161217T100500;INTERVAL=2;WKST=MO
END:VEVENT
BEGIN:VEVENT
DTSTAMP:20260419T221403Z
UID:c7b4f53c-2611-41c4-83cc-5339e089ea69
DTSTART;TZID=Europe/Moscow:20160910T101500
DTEND;TZID=Europe/Moscow:20160910T115000
DESCRIPTION:Shuvalov V.B. S13-501
LOCATION:K-213
SUMMARY:Principles of Control Theory (Efficiency Theory)
RRULE:FREQ=WEEKLY;UNTIL=20161217T115000;INTERVAL=2;WKST=MO
END:VEVENT
BEGIN:VEVENT
DTSTAMP:20260419T221403Z
UID:6ae2f313-7647-48cd-bb44-ad8aea5a03d7
DTSTART;TZID=Europe/Moscow:20160903T124500
DTEND;TZID=Europe/Moscow:20160903T142000
DESCRIPTION:Shuvalov V.B. S13-501
LOCATION:K-213
SUMMARY:Parallel Processing Techniques
RRULE:FREQ=WEEKLY;UNTIL=20161217T142000;WKST=MO
END:VEVENT
BEGIN:VEVENT
DTSTAMP:20260419T221403Z
UID:9c030643-2815-441b-be07-4f8cd3ab8d88
DTSTART;TZID=Europe/Moscow:20160903T143000
DTEND;TZID=Europe/Moscow:20160903T160500
DESCRIPTION:Shuvalov V.B. S13-501
LOCATION:K-213
SUMMARY:Parallel Processing Techniques
RRULE:FREQ=WEEKLY;UNTIL=20161217T160500;WKST=MO
END:VEVENT
BEGIN:VEVENT
DTSTAMP:20260419T221403Z
UID:0256e5d6-837b-4719-87ad-7beb4920259e
DTSTART;TZID=Europe/Moscow:20160906T143000
DTEND;TZID=Europe/Moscow:20160906T175000
DESCRIPTION:Shuvalov V.B.\, Hetagurov Y.A.\, Sergeev M.S.\, Ovcharenko 
 E.S.\, Kulik S.D.\, Krasnikova S.A.\, Evstifeev A.A.\, Drevs Y.G.\, Be
 rezkin E.F.\, Atovmyan I.O.\, Zaeva M.A. S16-501
LOCATION:dep.29
SUMMARY:Academic (Research) Practice: Introduction to the Profession
RRULE:FREQ=WEEKLY;UNTIL=20161206T175000;WKST=MO
END:VEVENT
BEGIN:VEVENT
DTSTAMP:20260419T221403Z
UID:f21031c0-9c2f-47e1-81b9-1dfa466bd508
DTSTART;TZID=Europe/Moscow:20160901T143000
DTEND;TZID=Europe/Moscow:20160901T160500
DESCRIPTION:Hetagurov Y.A.\, Sergeev M.S.\, Ovcharenko E.S.\, Kulik S.D
 .\, Krasnikova S.A.\, Zaeva M.A.\, Evstifeev A.A.\, Drevs Y.G.\, Berez
 kin E.F.\, Atovmyan I.O.\, Shuvalov V.B. S16-501
LOCATION:K-213
SUMMARY:Academic (Research) Practice: Introduction to the Profession
RRULE:FREQ=WEEKLY;UNTIL=20161215T160500;WKST=MO
END:VEVENT
BEGIN:VEVENT
DTSTAMP:20260419T221403Z
UID:dfaafcac-17e8-4f47-b784-76ffab9a1d88
DTSTART;TZID=Europe/Moscow:20160902T152000
DTEND;TZID=Europe/Moscow:20160902T170000
DESCRIPTION:Sergeev M.S.\, Kulik S.D.\, Zaeva M.A.\, Drevs Y.G.\, Krasn
 ikova S.A.\, Shuvalov V.B. S12-501\, S12-502
LOCATION:dep.29
SUMMARY:Professional Practice (Scientific Research ): Automatic Information
  Processing and Control Systems: Methods and Tools
RRULE:FREQ=WEEKLY;UNTIL=20161216T170000;WKST=MO
EXDATE:20161104T152000
END:VEVENT
BEGIN:VEVENT
DTSTAMP:20260419T221403Z
UID:2fda5647-87a7-4ec8-a56d-04d6fd18cb6c
DTSTART;TZID=Europe/Moscow:20160902T170500
DTEND;TZID=Europe/Moscow:20160902T184000
DESCRIPTION:Kulik S.D.\, Kotelnikov A.S.\, Ivanov M.Y.\, Zaeva M.A.\, E
 vstifeev A.A.\, Drevs Y.G.\, Berezkin E.F.\, Krasnikova S.A.\, Shuvalo
 v V.B.\, Shevchenko N.A.\, Tkachenko S.I.\, Sergeev M.S.\, Rysina A.D
 .\, Reshetko V.M.\, Ovcharenko E.S. S12-501\, S12-502
LOCATION:dep.29
SUMMARY:Professional Practice (Scientific Research ): Automatic Information
  Processing and Control Systems: Methods and Tools
RRULE:FREQ=WEEKLY;UNTIL=20161216T184000;WKST=MO
EXDATE:20161104T170500
END:VEVENT
BEGIN:VEVENT
DTSTAMP:20260419T221403Z
UID:4dacb0de-fa47-4ee1-91e5-79b99a5067a1
DTSTART;TZID=Europe/Moscow:20160902T202500
DTEND;TZID=Europe/Moscow:20160902T220000
DESCRIPTION:Shuvalov V.B. B14-572
LOCATION:V-204b
SUMMARY:Concurrent Computing
RRULE:FREQ=WEEKLY;UNTIL=20161216T220000;WKST=MO
EXDATE:20161104T202500
END:VEVENT
END:VCALENDAR
