BEGIN:VCALENDAR
VERSION:2.0
PRODID:icalendar-ruby
CALSCALE:GREGORIAN
METHOD:PUBLISH
BEGIN:VTIMEZONE
TZID:Europe/Moscow
BEGIN:STANDARD
DTSTART:19700101T000000
TZOFFSETFROM:+0300
TZOFFSETTO:+0300
TZNAME:MSK
END:STANDARD
END:VTIMEZONE
BEGIN:VEVENT
DTSTAMP:20260420T043327Z
UID:fb71aee1-3eb4-4e24-9bef-487ab0b99600
DTSTART;TZID=Europe/Moscow:20160902T083000
DTEND;TZID=Europe/Moscow:20160902T160500
DESCRIPTION:Pronicheva L.V.\, Onykiy B.N.\, Ischenko N.I.\, Ananieva A.
 G.\, Artamonov A.A. M16-801
LOCATION:dep.55
SUMMARY:Professional Practice (Academic Research Work on Competitive System
 s Analysis)
RRULE:FREQ=WEEKLY;UNTIL=20161216T160500;WKST=MO
EXDATE:20161104T083000
END:VEVENT
BEGIN:VEVENT
DTSTAMP:20260420T043327Z
UID:fb7d9f59-c202-4aa7-917f-11adeaa3a987
DTSTART;TZID=Europe/Moscow:20160903T143000
DTEND;TZID=Europe/Moscow:20160903T160500
DESCRIPTION:Artamonov A.A.\, Ananieva A.G.\, Onykiy B.N. B13-802
LOCATION:5-306
SUMMARY:Academic (Research) Practice: Competitive System Analysis
RRULE:FREQ=WEEKLY;UNTIL=20161217T160500;WKST=MO
END:VEVENT
END:VCALENDAR
