BEGIN:VCALENDAR
VERSION:2.0
PRODID:icalendar-ruby
CALSCALE:GREGORIAN
METHOD:PUBLISH
BEGIN:VTIMEZONE
TZID:Europe/Moscow
BEGIN:STANDARD
DTSTART:19700101T000000
TZOFFSETFROM:+0300
TZOFFSETTO:+0300
TZNAME:MSK
END:STANDARD
END:VTIMEZONE
BEGIN:VEVENT
DTSTAMP:20260419T221057Z
UID:39a5df01-a418-43c7-95a8-3c2161c29b2b
DTSTART;TZID=Europe/Moscow:20160903T101500
DTEND;TZID=Europe/Moscow:20160903T115000
DESCRIPTION:Vinokurova T.K. M16-711\, M16-761
LOCATION:V-417
SUMMARY:Microeconomics (Advanced Level)
RRULE:FREQ=WEEKLY;UNTIL=20161008T115000;WKST=MO
END:VEVENT
BEGIN:VEVENT
DTSTAMP:20260419T221057Z
UID:0ad28134-3f8b-4a0a-a6db-f6f2271c86b5
DTSTART;TZID=Europe/Moscow:20160903T115500
DTEND;TZID=Europe/Moscow:20160903T133000
DESCRIPTION:Vinokurova T.K. M16-701
LOCATION:V-417
SUMMARY:Microeconomics (Advanced Level)
RRULE:FREQ=WEEKLY;UNTIL=20161008T133000;WKST=MO
END:VEVENT
BEGIN:VEVENT
DTSTAMP:20260419T221057Z
UID:fcbb8046-f299-4472-ab7b-3546abbdaa71
DTSTART;TZID=Europe/Moscow:20160903T143000
DTEND;TZID=Europe/Moscow:20160903T175000
DESCRIPTION:Vinokurova T.K. M16-701\, M16-711\, M16-721\, M16-761
LOCATION:406
SUMMARY:Microeconomics (Advanced Level)
RRULE:FREQ=WEEKLY;UNTIL=20160917T175000;INTERVAL=2;WKST=MO
END:VEVENT
BEGIN:VEVENT
DTSTAMP:20260419T221057Z
UID:d18a8fdb-6739-43e4-8222-d1dac9316c2a
DTSTART;TZID=Europe/Moscow:20160924T143000
DTEND;TZID=Europe/Moscow:20160924T160500
DESCRIPTION:Vinokurova T.K. M16-721
LOCATION:B-214
SUMMARY:Microeconomics (Advanced Level)
RRULE:FREQ=WEEKLY;UNTIL=20161008T160500;INTERVAL=2;WKST=MO
END:VEVENT
BEGIN:VEVENT
DTSTAMP:20260419T221057Z
UID:e2ba4876-583b-41d7-8345-f90ee7815ede
DTSTART;TZID=Europe/Moscow:20160924T161500
DTEND;TZID=Europe/Moscow:20160924T175000
DESCRIPTION:Vinokurova T.K. M16-721
LOCATION:B-214
SUMMARY:Microeconomics (Advanced Level)
RRULE:FREQ=WEEKLY;UNTIL=20161015T175000;WKST=MO
END:VEVENT
BEGIN:VEVENT
DTSTAMP:20260419T221057Z
UID:b4d9b846-4d70-4848-a2ea-5dbdfa16db15
DTSTART;TZID=Europe/Moscow:20161029T092000
DTEND;TZID=Europe/Moscow:20161029T124000
DESCRIPTION:Vinokurova T.K. M15-705\, M15-706
LOCATION:V-403
SUMMARY:Investments and Investment Activity
RRULE:FREQ=WEEKLY;UNTIL=20161105T124000;WKST=MO
END:VEVENT
BEGIN:VEVENT
DTSTAMP:20260419T221057Z
UID:842af027-29e3-43bf-85e4-0b86a70f03fe
DTSTART;TZID=Europe/Moscow:20161029T133500
DTEND;TZID=Europe/Moscow:20161029T170000
DESCRIPTION:Vinokurova T.K. M15-704
LOCATION:V-417
SUMMARY:Business Evaluation and Value-Dased Management
RRULE:FREQ=WEEKLY;UNTIL=20161112T170000;WKST=MO
END:VEVENT
BEGIN:VEVENT
DTSTAMP:20260419T221057Z
UID:be4e60ff-e085-49c1-aaf9-5cc0a2afec45
DTSTART;TZID=Europe/Moscow:20161119T092000
DTEND;TZID=Europe/Moscow:20161119T124000
DESCRIPTION:Vinokurova T.K. M15-705\, M15-706
LOCATION:V-403
SUMMARY:Investments and Investment Activity
RRULE:FREQ=WEEKLY;UNTIL=20161217T124000;WKST=MO
END:VEVENT
BEGIN:VEVENT
DTSTAMP:20260419T221057Z
UID:d2a6ef15-49bd-4644-bfcb-86b4df6efd5e
DTSTART;TZID=Europe/Moscow:20161119T133500
DTEND;TZID=Europe/Moscow:20161119T170000
DESCRIPTION:Vinokurova T.K. M15-704
LOCATION:V-417
SUMMARY:Business Evaluation and Value-Dased Management
RRULE:FREQ=WEEKLY;UNTIL=20161210T170000;WKST=MO
END:VEVENT
END:VCALENDAR
