BEGIN:VCALENDAR
VERSION:2.0
PRODID:icalendar-ruby
CALSCALE:GREGORIAN
METHOD:PUBLISH
BEGIN:VTIMEZONE
TZID:Europe/Moscow
BEGIN:STANDARD
DTSTART:19700101T000000
TZOFFSETFROM:+0300
TZOFFSETTO:+0300
TZNAME:MSK
END:STANDARD
END:VTIMEZONE
BEGIN:VEVENT
DTSTAMP:20260419T120529Z
UID:8e00c956-d5f5-4db2-b40c-26e334ae5d80
DTSTART;TZID=Europe/Moscow:20160908T101500
DTEND;TZID=Europe/Moscow:20160908T115000
DESCRIPTION:Ryabov V.G. M16-405
LOCATION:K-306
SUMMARY:Introduction to Relativistic Nuclear Physics
RRULE:FREQ=WEEKLY;UNTIL=20161215T115000;INTERVAL=2;WKST=MO
END:VEVENT
END:VCALENDAR
