BEGIN:VCALENDAR
VERSION:2.0
PRODID:icalendar-ruby
CALSCALE:GREGORIAN
METHOD:PUBLISH
BEGIN:VTIMEZONE
TZID:Europe/Moscow
BEGIN:STANDARD
DTSTART:19700101T000000
TZOFFSETFROM:+0300
TZOFFSETTO:+0300
TZNAME:MSK
END:STANDARD
END:VTIMEZONE
BEGIN:VEVENT
DTSTAMP:20260419T120553Z
UID:3ae35f92-56f2-4716-aab7-6b43d0a0e9d5
DTSTART;TZID=Europe/Moscow:20160906T083000
DTEND;TZID=Europe/Moscow:20160906T100500
DESCRIPTION:Martynov I.L. M16-405
LOCATION:dep.67
SUMMARY:Spectral Methods in Nanostructure Research
RRULE:FREQ=WEEKLY;UNTIL=20161018T100500;INTERVAL=2;WKST=MO
END:VEVENT
BEGIN:VEVENT
DTSTAMP:20260419T120553Z
UID:142fc9e3-45c7-4221-a22e-70f7e12511c1
DTSTART;TZID=Europe/Moscow:20160913T083000
DTEND;TZID=Europe/Moscow:20160913T100500
DESCRIPTION:Martynov I.L. M16-405
LOCATION:dep.67
SUMMARY:Spectral Methods in Nanostructure Research
RRULE:FREQ=WEEKLY;UNTIL=20161220T100500;INTERVAL=2;WKST=MO
END:VEVENT
BEGIN:VEVENT
DTSTAMP:20260419T120553Z
UID:49200c33-7469-48e9-98e8-842a9be6c04e
DTSTART;TZID=Europe/Moscow:20160913T101500
DTEND;TZID=Europe/Moscow:20160913T115000
DESCRIPTION:Martynov I.L. M16-405
LOCATION:dep.67
SUMMARY:Spectral Methods in Nanostructure Research
RRULE:FREQ=WEEKLY;UNTIL=20161220T115000;INTERVAL=2;WKST=MO
END:VEVENT
BEGIN:VEVENT
DTSTAMP:20260419T120553Z
UID:033d03b4-1ffe-4218-8d44-b1358b79f23e
DTSTART;TZID=Europe/Moscow:20160901T124500
DTEND;TZID=Europe/Moscow:20160901T142000
DESCRIPTION:Martynov I.L. B13-003\, B13-204
LOCATION:B-219
SUMMARY:Introduction to Physics of Micro- and Nanosystems
RRULE:FREQ=WEEKLY;UNTIL=20161208T142000;INTERVAL=2;WKST=MO
END:VEVENT
BEGIN:VEVENT
DTSTAMP:20260419T120553Z
UID:ba4a48a5-74fa-40aa-b94b-a9a00421ca4a
DTSTART;TZID=Europe/Moscow:20160901T143000
DTEND;TZID=Europe/Moscow:20160901T160500
DESCRIPTION:Martynov I.L. B13-003\, B13-204
LOCATION:K-307
SUMMARY:Introduction to Physics of Micro- and Nanosystems
RRULE:FREQ=WEEKLY;UNTIL=20161215T160500;WKST=MO
END:VEVENT
BEGIN:VEVENT
DTSTAMP:20260419T120553Z
UID:33d2662e-41a6-400b-96e9-5b283343af45
DTSTART;TZID=Europe/Moscow:20161101T083000
DTEND;TZID=Europe/Moscow:20161101T100500
DESCRIPTION:Martynov I.L. M16-405
LOCATION:dep.67
SUMMARY:Spectral Methods in Nanostructure Research
RRULE:FREQ=WEEKLY;UNTIL=20161213T100500;INTERVAL=2;WKST=MO
END:VEVENT
END:VCALENDAR
