BEGIN:VCALENDAR
VERSION:2.0
PRODID:icalendar-ruby
CALSCALE:GREGORIAN
METHOD:PUBLISH
BEGIN:VTIMEZONE
TZID:Europe/Moscow
BEGIN:STANDARD
DTSTART:19700101T000000
TZOFFSETFROM:+0300
TZOFFSETTO:+0300
TZNAME:MSK
END:STANDARD
END:VTIMEZONE
BEGIN:VEVENT
DTSTAMP:20260419T120514Z
UID:3523d2b3-48c6-4dc1-acf1-f0ce81c806d6
DTSTART;TZID=Europe/Moscow:20160903T101500
DTEND;TZID=Europe/Moscow:20160903T115000
DESCRIPTION:Kotkovskiy G.E. M15-407\, M15-410
LOCATION:B-217
SUMMARY:Physics and Sensor Technology
RRULE:FREQ=WEEKLY;UNTIL=20161015T115000;INTERVAL=2;WKST=MO
END:VEVENT
BEGIN:VEVENT
DTSTAMP:20260419T120514Z
UID:d7df45cd-c721-4ea2-8848-2fbf52724917
DTSTART;TZID=Europe/Moscow:20160910T101500
DTEND;TZID=Europe/Moscow:20160910T115000
DESCRIPTION:Kotkovskiy G.E. M15-407\, M15-410
LOCATION:B-217
SUMMARY:Physics and Sensor Technology
RRULE:FREQ=WEEKLY;UNTIL=20161217T115000;INTERVAL=2;WKST=MO
END:VEVENT
BEGIN:VEVENT
DTSTAMP:20260419T120514Z
UID:76a8f7dc-9da0-4cd3-af83-b0b9ca6cd118
DTSTART;TZID=Europe/Moscow:20160908T101500
DTEND;TZID=Europe/Moscow:20160908T115000
DESCRIPTION:Kotkovskiy G.E. M16-403
LOCATION:V-403
SUMMARY:Physics and Sensor Technology
RRULE:FREQ=WEEKLY;UNTIL=20161215T115000;INTERVAL=2;WKST=MO
END:VEVENT
BEGIN:VEVENT
DTSTAMP:20260419T120514Z
UID:ad3bb45b-32ac-4d22-878f-c217b0f7cb34
DTSTART;TZID=Europe/Moscow:20160903T115500
DTEND;TZID=Europe/Moscow:20160903T133000
DESCRIPTION:Kotkovskiy G.E. M15-407\, M15-410
LOCATION:dep.81
SUMMARY:Academic Practice (Research) 
RRULE:FREQ=WEEKLY;UNTIL=20161217T133000;WKST=MO
END:VEVENT
BEGIN:VEVENT
DTSTAMP:20260419T120514Z
UID:bc52300a-bb80-432e-b1d3-0930b97d5b77
DTSTART;TZID=Europe/Moscow:20160901T124500
DTEND;TZID=Europe/Moscow:20160901T142000
DESCRIPTION:Kotkovskiy G.E. M16-403
LOCATION:405
SUMMARY:Physics and Sensor Technology
RRULE:FREQ=WEEKLY;UNTIL=20161215T142000;WKST=MO
END:VEVENT
BEGIN:VEVENT
DTSTAMP:20260419T120514Z
UID:e7d83905-5675-47f7-87e7-b20357188d2c
DTSTART;TZID=Europe/Moscow:20160902T124500
DTEND;TZID=Europe/Moscow:20160902T142000
DESCRIPTION:Kotkovskiy G.E. M16-405
LOCATION:B-219
SUMMARY:Introduction to Modern Methods of Analysis 
RRULE:FREQ=WEEKLY;UNTIL=20161014T142000;INTERVAL=2;WKST=MO
END:VEVENT
BEGIN:VEVENT
DTSTAMP:20260419T120514Z
UID:e7e92710-a316-407f-b870-ff08290a90c0
DTSTART;TZID=Europe/Moscow:20160909T124500
DTEND;TZID=Europe/Moscow:20160909T142000
DESCRIPTION:Kotkovskiy G.E. M16-405
LOCATION:B-219
SUMMARY:Introduction to Modern Methods of Analysis 
RRULE:FREQ=WEEKLY;UNTIL=20161216T142000;INTERVAL=2;WKST=MO
EXDATE:20161104T124500
END:VEVENT
BEGIN:VEVENT
DTSTAMP:20260419T120514Z
UID:12d941b7-7d7c-4c66-a763-6ef932a7b818
DTSTART;TZID=Europe/Moscow:20160903T133500
DTEND;TZID=Europe/Moscow:20160903T151500
DESCRIPTION:Kotkovskiy G.E. M15-407\, M15-410
LOCATION:dep.81
SUMMARY:Academic Practice (Research) 
RRULE:FREQ=WEEKLY;UNTIL=20160917T151500;INTERVAL=2;WKST=MO
END:VEVENT
BEGIN:VEVENT
DTSTAMP:20260419T120514Z
UID:bc098abc-42c9-4a27-a1eb-52b6f5602141
DTSTART;TZID=Europe/Moscow:20161029T101500
DTEND;TZID=Europe/Moscow:20161029T115000
DESCRIPTION:Kotkovskiy G.E. M15-407\, M15-410
LOCATION:B-217
SUMMARY:Physics and Sensor Technology
RRULE:FREQ=WEEKLY;UNTIL=20161210T115000;INTERVAL=2;WKST=MO
END:VEVENT
BEGIN:VEVENT
DTSTAMP:20260419T120514Z
UID:1245965f-2882-4bfa-ac6c-60c014617ed0
DTSTART;TZID=Europe/Moscow:20161028T124500
DTEND;TZID=Europe/Moscow:20161028T142000
DESCRIPTION:Kotkovskiy G.E. M16-405
LOCATION:B-219
SUMMARY:Introduction to Modern Methods of Analysis 
RRULE:FREQ=WEEKLY;UNTIL=20161209T142000;INTERVAL=2;WKST=MO
END:VEVENT
END:VCALENDAR
