BEGIN:VCALENDAR
VERSION:2.0
PRODID:icalendar-ruby
CALSCALE:GREGORIAN
METHOD:PUBLISH
BEGIN:VTIMEZONE
TZID:Europe/Moscow
BEGIN:STANDARD
DTSTART:19700101T000000
TZOFFSETFROM:+0300
TZOFFSETTO:+0300
TZNAME:MSK
END:STANDARD
END:VTIMEZONE
BEGIN:VEVENT
DTSTAMP:20260419T120451Z
UID:2b3bab0d-ee5b-426d-8f0c-334ce0902d87
DTSTART;TZID=Europe/Moscow:20160906T124500
DTEND;TZID=Europe/Moscow:20160906T142000
DESCRIPTION:Popov A.P. M16-402\, M16-404\, S12-405
LOCATION:A-112
SUMMARY:Surface Physics
RRULE:FREQ=WEEKLY;UNTIL=20161122T142000;WKST=MO
END:VEVENT
BEGIN:VEVENT
DTSTAMP:20260419T120451Z
UID:2c3fc105-8642-4170-b752-00e4a654ad3a
DTSTART;TZID=Europe/Moscow:20160912T124500
DTEND;TZID=Europe/Moscow:20160912T142000
DESCRIPTION:Popov A.P. S14-405
LOCATION:A-112
SUMMARY:Selected Topics in  Field Theory
RRULE:FREQ=WEEKLY;UNTIL=20161219T142000;INTERVAL=2;WKST=MO
END:VEVENT
BEGIN:VEVENT
DTSTAMP:20260419T120451Z
UID:261a8cc8-18f6-4673-bec5-15ba6bce83de
DTSTART;TZID=Europe/Moscow:20160906T143000
DTEND;TZID=Europe/Moscow:20160906T160500
DESCRIPTION:Popov A.P. M16-402\, M16-404\, S12-405
LOCATION:A-112
SUMMARY:Surface Physics
RRULE:FREQ=WEEKLY;UNTIL=20161213T160500;INTERVAL=2;WKST=MO
END:VEVENT
BEGIN:VEVENT
DTSTAMP:20260419T120451Z
UID:5bdae965-3d69-4689-a366-7f4702e2609b
DTSTART;TZID=Europe/Moscow:20160905T161500
DTEND;TZID=Europe/Moscow:20160905T175000
DESCRIPTION:Popov A.P. S14-405
LOCATION:A-112
SUMMARY:Selected Topics in  Field Theory
RRULE:FREQ=WEEKLY;UNTIL=20161219T175000;WKST=MO
END:VEVENT
BEGIN:VEVENT
DTSTAMP:20260419T120451Z
UID:5daca73a-af78-4ca7-b96d-25bd0e0f4f1d
DTSTART;TZID=Europe/Moscow:20161129T124500
DTEND;TZID=Europe/Moscow:20161129T142000
DESCRIPTION:Popov A.P. M16-402\, M16-404\, S12-405
LOCATION:A-112
SUMMARY:Surface Physics
RRULE:FREQ=WEEKLY;UNTIL=20161220T142000;WKST=MO
END:VEVENT
END:VCALENDAR
