BEGIN:VCALENDAR
VERSION:2.0
PRODID:icalendar-ruby
CALSCALE:GREGORIAN
METHOD:PUBLISH
BEGIN:VTIMEZONE
TZID:Europe/Moscow
BEGIN:STANDARD
DTSTART:19700101T000000
TZOFFSETFROM:+0300
TZOFFSETTO:+0300
TZNAME:MSK
END:STANDARD
END:VTIMEZONE
BEGIN:VEVENT
DTSTAMP:20260419T120451Z
UID:cfa04704-43cc-4b4e-9c4c-dd7a9b149872
DTSTART;TZID=Europe/Moscow:20160902T101500
DTEND;TZID=Europe/Moscow:20160902T115000
DESCRIPTION:Tronin I.V. S13-405
LOCATION:A-112
SUMMARY:Physical Kinetics
RRULE:FREQ=WEEKLY;UNTIL=20161216T115000;WKST=MO
EXDATE:20161104T101500
END:VEVENT
BEGIN:VEVENT
DTSTAMP:20260419T120451Z
UID:8831d67e-cb91-4aff-970f-a0c1ae3816e6
DTSTART;TZID=Europe/Moscow:20160901T124500
DTEND;TZID=Europe/Moscow:20160901T142000
DESCRIPTION:Tronin I.V.\, Tronin V.N.\, Poteshin S.S.\, Bogovalov S.V.\
 , Byrkin V.A. M16-402
LOCATION:dep.10
SUMMARY:Practical Training (Research Work)
RRULE:FREQ=WEEKLY;UNTIL=20161215T142000;WKST=MO
END:VEVENT
BEGIN:VEVENT
DTSTAMP:20260419T120451Z
UID:c1a8321b-d287-413d-bfe8-f69e31bbfb04
DTSTART;TZID=Europe/Moscow:20160907T161500
DTEND;TZID=Europe/Moscow:20160907T184000
DESCRIPTION:Tronin I.V.\, Tronin V.N.\, Poteshin S.S.\, Bogovalov S.V.\
 , Byrkin V.A. M16-402
LOCATION:dep.10
SUMMARY:Professional Research Internship
RRULE:FREQ=WEEKLY;UNTIL=20161228T184000;WKST=MO
END:VEVENT
BEGIN:VEVENT
DTSTAMP:20260419T120451Z
UID:db37b880-c74d-4d28-85fe-f9f7bafb47bd
DTSTART;TZID=Europe/Moscow:20160907T161500
DTEND;TZID=Europe/Moscow:20160907T175000
DESCRIPTION:Sysoev A.A.\, Smirnov A.Y.\, Tronin I.V. M15-408
LOCATION:dep.10
SUMMARY:Academic Practice (Research) 
RRULE:FREQ=WEEKLY;UNTIL=20161221T175000;WKST=MO
END:VEVENT
END:VCALENDAR
