BEGIN:VCALENDAR
VERSION:2.0
PRODID:icalendar-ruby
CALSCALE:GREGORIAN
METHOD:PUBLISH
BEGIN:VTIMEZONE
TZID:Europe/Moscow
BEGIN:STANDARD
DTSTART:19700101T000000
TZOFFSETFROM:+0300
TZOFFSETTO:+0300
TZNAME:MSK
END:STANDARD
END:VTIMEZONE
BEGIN:VEVENT
DTSTAMP:20260419T203810Z
UID:e5fa9d2a-0481-4458-b2f9-73b4342ab8a9
DTSTART;TZID=Europe/Moscow:20161020T124500
DTEND;TZID=Europe/Moscow:20161020T142000
DESCRIPTION:Pereverzev V.G. M16-303
LOCATION:FIAN
SUMMARY:Academic Research Practice
RRULE:FREQ=WEEKLY;UNTIL=20161215T142000;WKST=MO
END:VEVENT
BEGIN:VEVENT
DTSTAMP:20260419T203810Z
UID:56323275-194a-47c5-b09f-a88a1f35cbcd
DTSTART;TZID=Europe/Moscow:20161026T143000
DTEND;TZID=Europe/Moscow:20161026T160500
DESCRIPTION:Pereverzev V.G. M15-305\, M15-306
LOCATION:FIAN
SUMMARY:Professional Practice (Research and Operations)
RRULE:FREQ=WEEKLY;UNTIL=20161221T160500;WKST=MO
END:VEVENT
END:VCALENDAR
