BEGIN:VCALENDAR
VERSION:2.0
PRODID:icalendar-ruby
CALSCALE:GREGORIAN
METHOD:PUBLISH
BEGIN:VTIMEZONE
TZID:Europe/Moscow
BEGIN:STANDARD
DTSTART:19700101T000000
TZOFFSETFROM:+0300
TZOFFSETTO:+0300
TZNAME:MSK
END:STANDARD
END:VTIMEZONE
BEGIN:VEVENT
DTSTAMP:20260419T221116Z
UID:7e64c1a8-7eba-4060-aeeb-86d59a8dc6e7
DTSTART;TZID=Europe/Moscow:20160902T143000
DTEND;TZID=Europe/Moscow:20160902T151500
DESCRIPTION:Mityagin Y.A.\, Kartsev P.F. M16-204
LOCATION:E-204
SUMMARY:Experimental Condensed Matter Physics
RRULE:FREQ=WEEKLY;UNTIL=20161209T151500;INTERVAL=2;WKST=MO
END:VEVENT
BEGIN:VEVENT
DTSTAMP:20260419T221116Z
UID:fc20e952-af9c-406d-b713-e8f6e9b3917f
DTSTART;TZID=Europe/Moscow:20160909T143000
DTEND;TZID=Europe/Moscow:20160909T151500
DESCRIPTION:Mityagin Y.A. M16-204
LOCATION:E-204
SUMMARY:Experimental Condensed Matter Physics
RRULE:FREQ=WEEKLY;UNTIL=20161216T151500;INTERVAL=2;WKST=MO
EXDATE:20161104T143000
END:VEVENT
BEGIN:VEVENT
DTSTAMP:20260419T221116Z
UID:5b0f0d73-101d-440f-8d29-6ff6cc8d8c27
DTSTART;TZID=Europe/Moscow:20160902T152000
DTEND;TZID=Europe/Moscow:20160902T170000
DESCRIPTION:Mityagin Y.A.\, Kartsev P.F. M16-204
LOCATION:E-204
SUMMARY:Experimental Condensed Matter Physics
RRULE:FREQ=WEEKLY;UNTIL=20161216T170000;WKST=MO
EXDATE:20161104T152000
END:VEVENT
END:VCALENDAR
