BEGIN:VCALENDAR
VERSION:2.0
PRODID:icalendar-ruby
CALSCALE:GREGORIAN
METHOD:PUBLISH
BEGIN:VTIMEZONE
TZID:Europe/Moscow
BEGIN:STANDARD
DTSTART:19700101T000000
TZOFFSETFROM:+0300
TZOFFSETTO:+0300
TZNAME:MSK
END:STANDARD
END:VTIMEZONE
BEGIN:VEVENT
DTSTAMP:20260420T215013Z
UID:c48f1ea9-7d63-4eb7-b264-663db9c93f5b
DTSTART;TZID=Europe/Moscow:20160901T124500
DTEND;TZID=Europe/Moscow:20160901T142000
DESCRIPTION:Haritonov V.S.\, Rachkov V.I. M16-103\, M16-163
LOCATION:E-406
SUMMARY: New Generation Nuclear Reactors 
RRULE:FREQ=WEEKLY;UNTIL=20161208T142000;INTERVAL=2;WKST=MO
END:VEVENT
END:VCALENDAR
