BEGIN:VCALENDAR
VERSION:2.0
PRODID:icalendar-ruby
CALSCALE:GREGORIAN
METHOD:PUBLISH
BEGIN:VTIMEZONE
TZID:Europe/Moscow
BEGIN:STANDARD
DTSTART:19700101T000000
TZOFFSETFROM:+0300
TZOFFSETTO:+0300
TZNAME:MSK
END:STANDARD
END:VTIMEZONE
BEGIN:VEVENT
DTSTAMP:20260420T071615Z
UID:dddfd484-867a-418b-acaa-df901e520f8c
DTSTART;TZID=Europe/Moscow:20160902T124500
DTEND;TZID=Europe/Moscow:20160902T142000
DESCRIPTION:Alekseev P.N. M16-102
LOCATION:B-208
SUMMARY:Modern Problems of Nuclear Energy
RRULE:FREQ=WEEKLY;UNTIL=20161014T142000;INTERVAL=2;WKST=MO
END:VEVENT
BEGIN:VEVENT
DTSTAMP:20260420T071615Z
UID:57154416-36d5-4fba-a24e-dca2e80ba593
DTSTART;TZID=Europe/Moscow:20160905T175500
DTEND;TZID=Europe/Moscow:20160905T193000
DESCRIPTION:Alekseev P.N. M16-103\, M16-163
LOCATION:B-208
SUMMARY:Modern Problems of Nuclear Energy
RRULE:FREQ=WEEKLY;UNTIL=20161219T193000;WKST=MO
END:VEVENT
BEGIN:VEVENT
DTSTAMP:20260420T071615Z
UID:b03315ac-d692-4ea8-be5d-701785e0e0a2
DTSTART;TZID=Europe/Moscow:20160905T193500
DTEND;TZID=Europe/Moscow:20160905T211000
DESCRIPTION:Alekseev P.N. M16-103\, M16-163
LOCATION:B-208
SUMMARY:Modern Problems of Nuclear Energy
RRULE:FREQ=WEEKLY;UNTIL=20161212T211000;INTERVAL=2;WKST=MO
END:VEVENT
BEGIN:VEVENT
DTSTAMP:20260420T071615Z
UID:1ae0571b-af01-45da-bf72-4bb71c384997
DTSTART;TZID=Europe/Moscow:20161028T124500
DTEND;TZID=Europe/Moscow:20161028T142000
DESCRIPTION:Alekseev P.N. M16-102
LOCATION:B-208
SUMMARY:Modern Problems of Nuclear Energy
RRULE:FREQ=WEEKLY;UNTIL=20161209T142000;INTERVAL=2;WKST=MO
END:VEVENT
END:VCALENDAR
