BEGIN:VCALENDAR
VERSION:2.0
PRODID:icalendar-ruby
CALSCALE:GREGORIAN
METHOD:PUBLISH
BEGIN:VTIMEZONE
TZID:Europe/Moscow
BEGIN:STANDARD
DTSTART:19700101T000000
TZOFFSETFROM:+0300
TZOFFSETTO:+0300
TZNAME:MSK
END:STANDARD
END:VTIMEZONE
BEGIN:VEVENT
DTSTAMP:20260420T025333Z
UID:f35ad14c-5d89-44a4-b293-76240b24c4fa
DTSTART;TZID=Europe/Moscow:20160905T083000
DTEND;TZID=Europe/Moscow:20160905T100500
DESCRIPTION:Kiryuhin V.M. M15-001
LOCATION:dep.17
SUMMARY:Mathemaics: Continuous Modeling 
RRULE:FREQ=WEEKLY;UNTIL=20161212T100500;INTERVAL=2;WKST=MO
END:VEVENT
BEGIN:VEVENT
DTSTAMP:20260420T025333Z
UID:f94c3cd5-27ad-4a8d-b1d9-7027fde08092
DTSTART;TZID=Europe/Moscow:20160905T101500
DTEND;TZID=Europe/Moscow:20160905T115000
DESCRIPTION:Kiryuhin V.M. M15-001
LOCATION:V-407
SUMMARY:Mathemaics: Continuous Modeling 
RRULE:FREQ=WEEKLY;UNTIL=20161212T115000;INTERVAL=2;WKST=MO
END:VEVENT
BEGIN:VEVENT
DTSTAMP:20260420T025333Z
UID:424b1cd4-acc1-4a5e-8e91-a277a707ba68
DTSTART;TZID=Europe/Moscow:20160905T124500
DTEND;TZID=Europe/Moscow:20160905T142000
DESCRIPTION:Kiryuhin V.M. B16-601
LOCATION:V-119
SUMMARY:Informatics
RRULE:FREQ=WEEKLY;UNTIL=20161219T142000;WKST=MO
END:VEVENT
BEGIN:VEVENT
DTSTAMP:20260420T025333Z
UID:560e9527-d763-4b88-b18e-f297c5115c37
DTSTART;TZID=Europe/Moscow:20160907T143000
DTEND;TZID=Europe/Moscow:20160907T160500
DESCRIPTION:Kiryuhin V.M. B13-001
LOCATION:T-102
SUMMARY:Numerical Modeling
RRULE:FREQ=WEEKLY;UNTIL=20161221T160500;WKST=MO
END:VEVENT
BEGIN:VEVENT
DTSTAMP:20260420T025333Z
UID:5f50c3f2-f2de-4d78-89a1-b176bd92a836
DTSTART;TZID=Europe/Moscow:20160907T161500
DTEND;TZID=Europe/Moscow:20160907T175000
DESCRIPTION:Kiryuhin V.M. B13-001
LOCATION:T-102
SUMMARY:Numerical Modeling
RRULE:FREQ=WEEKLY;UNTIL=20161221T175000;WKST=MO
END:VEVENT
END:VCALENDAR
