BEGIN:VCALENDAR
VERSION:2.0
PRODID:icalendar-ruby
CALSCALE:GREGORIAN
METHOD:PUBLISH
BEGIN:VTIMEZONE
TZID:Europe/Moscow
BEGIN:STANDARD
DTSTART:19700101T000000
TZOFFSETFROM:+0300
TZOFFSETTO:+0300
TZNAME:MSK
END:STANDARD
END:VTIMEZONE
BEGIN:VEVENT
DTSTAMP:20260420T125223Z
UID:007ad61a-30d7-40bf-9366-09cd164350f4
DTSTART;TZID=Europe/Moscow:20160906T083000
DTEND;TZID=Europe/Moscow:20160906T100500
DESCRIPTION:Savander V.I. B13-103\, B13-104
LOCATION:E-409A
SUMMARY:Term Project: Design and Equipment Selection for Nuclear Reactors\;
  Safety and Efficiency of Nuclear Reactors
RRULE:FREQ=WEEKLY;UNTIL=20161220T100500;WKST=MO
END:VEVENT
BEGIN:VEVENT
DTSTAMP:20260420T125223Z
UID:13e3b38c-33b5-451e-90e3-dd2a134a396f
DTSTART;TZID=Europe/Moscow:20160902T083000
DTEND;TZID=Europe/Moscow:20160902T100500
DESCRIPTION:Savander V.I. S13-105\, S13-106
LOCATION:K-409
SUMMARY:Physical Reactor Theory: Modeling of Non-Stationary Processes and P
 erturbaion Theory
RRULE:FREQ=WEEKLY;UNTIL=20161216T100500;WKST=MO
EXDATE:20161104T083000
END:VEVENT
BEGIN:VEVENT
DTSTAMP:20260420T125223Z
UID:57826672-2fe4-4345-a9bc-9f3328763bae
DTSTART;TZID=Europe/Moscow:20160903T083000
DTEND;TZID=Europe/Moscow:20160903T100500
DESCRIPTION:Geraskin N.I.\, Savander V.I. S13-106
LOCATION:E-409A
SUMMARY:Term Project: Design and Equipment Selection for Nuclear Power Plan
 ts (Npps)\; Safety and Efficiency of Npps
RRULE:FREQ=WEEKLY;UNTIL=20161210T100500;INTERVAL=2;WKST=MO
END:VEVENT
BEGIN:VEVENT
DTSTAMP:20260420T125223Z
UID:966527c9-4770-4171-86fe-36ecb469b9db
DTSTART;TZID=Europe/Moscow:20160901T101500
DTEND;TZID=Europe/Moscow:20160901T115000
DESCRIPTION:Savander V.I. S13-106
LOCATION:dep.5
SUMMARY:Term Project: Design and Equipment Selection for Nuclear Power Plan
 ts (Npps)\; Safety and Efficiency of Npps
RRULE:FREQ=WEEKLY;UNTIL=20161208T115000;INTERVAL=2;WKST=MO
END:VEVENT
BEGIN:VEVENT
DTSTAMP:20260420T125223Z
UID:ccc6fb4b-e39d-49e8-8d72-038c45f66091
DTSTART;TZID=Europe/Moscow:20160909T101500
DTEND;TZID=Europe/Moscow:20160909T115000
DESCRIPTION:Savander V.I. S13-105\, S13-106
LOCATION:K-409
SUMMARY:Physical Reactor Theory: Modeling of Non-Stationary Processes and P
 erturbaion Theory
RRULE:FREQ=WEEKLY;UNTIL=20161216T115000;INTERVAL=2;WKST=MO
EXDATE:20161104T101500
END:VEVENT
BEGIN:VEVENT
DTSTAMP:20260420T125223Z
UID:94c205f5-4b05-4b28-9e94-d586cb87ee39
DTSTART;TZID=Europe/Moscow:20160906T124500
DTEND;TZID=Europe/Moscow:20160906T142000
DESCRIPTION:Savander V.I. S16-402
LOCATION:K-1006
SUMMARY:General Physics (Mechanics)
RRULE:FREQ=WEEKLY;UNTIL=20161220T142000;WKST=MO
END:VEVENT
BEGIN:VEVENT
DTSTAMP:20260420T125223Z
UID:780556b9-caba-4519-bdfe-9836ea480549
DTSTART;TZID=Europe/Moscow:20160914T124500
DTEND;TZID=Europe/Moscow:20160914T160500
DESCRIPTION:Savander V.I. B16-201
LOCATION:A-312
SUMMARY:General Physics (Mechanics). Subgroup 1
RRULE:FREQ=WEEKLY;UNTIL=20161221T160500;INTERVAL=2;WKST=MO
END:VEVENT
BEGIN:VEVENT
DTSTAMP:20260420T125223Z
UID:4a9f9c5d-9bbd-4752-9e41-2b93be99cee2
DTSTART;TZID=Europe/Moscow:20160906T143000
DTEND;TZID=Europe/Moscow:20160906T160500
DESCRIPTION:Savander V.I. B16-402\, B16-403\, B16-404
LOCATION:K-1006
SUMMARY:General Physics (Mechanics)
RRULE:FREQ=WEEKLY;UNTIL=20161220T160500;WKST=MO
END:VEVENT
BEGIN:VEVENT
DTSTAMP:20260420T125223Z
UID:547b9761-5f01-496c-824f-db8355cea021
DTSTART;TZID=Europe/Moscow:20160902T143000
DTEND;TZID=Europe/Moscow:20160902T160500
DESCRIPTION:Savander V.I. B16-402\, B16-403\, B16-404
LOCATION:K-305
SUMMARY:General Physics (Mechanics)
RRULE:FREQ=WEEKLY;UNTIL=20161216T160500;WKST=MO
EXDATE:20161104T143000
END:VEVENT
BEGIN:VEVENT
DTSTAMP:20260420T125223Z
UID:1a8a04c7-0f5c-49fc-a2cc-f083fb04ae13
DTSTART;TZID=Europe/Moscow:20160901T143000
DTEND;TZID=Europe/Moscow:20160901T160500
DESCRIPTION:Savander V.I. S13-105\, S13-106
LOCATION:K-415
SUMMARY:Physical Reactor Theory: Modeling of Non-Stationary Processes and P
 erturbaion Theory
RRULE:FREQ=WEEKLY;UNTIL=20161215T160500;WKST=MO
END:VEVENT
BEGIN:VEVENT
DTSTAMP:20260420T125223Z
UID:c30e1dc4-8e0d-4de6-868f-ed9d8f441904
DTSTART;TZID=Europe/Moscow:20160902T161500
DTEND;TZID=Europe/Moscow:20160902T175000
DESCRIPTION:Savander V.I. S16-402
LOCATION:K-305
SUMMARY:General Physics (Mechanics)
RRULE:FREQ=WEEKLY;UNTIL=20161216T175000;WKST=MO
EXDATE:20161104T161500
END:VEVENT
BEGIN:VEVENT
DTSTAMP:20260420T125223Z
UID:6672a937-b10b-44f9-a4be-b803935ada7a
DTSTART;TZID=Europe/Moscow:20161024T152000
DTEND;TZID=Europe/Moscow:20161024T184000
DESCRIPTION:Savander V.I. M16-S84
LOCATION:T-301
SUMMARY:Problems and Prospects of Nuclear Energy
END:VEVENT
BEGIN:VEVENT
DTSTAMP:20260420T125223Z
UID:99313eb4-5db3-41b8-8d51-c6cf517eaa3b
DTSTART;TZID=Europe/Moscow:20161024T184500
DTEND;TZID=Europe/Moscow:20161024T202000
DESCRIPTION:Savander V.I. M16-S84
LOCATION:T-301
SUMMARY:Problems and Prospects of Nuclear Energy
END:VEVENT
BEGIN:VEVENT
DTSTAMP:20260420T125223Z
UID:a4221fc0-e71e-4a17-8864-eb41d01a8cf6
DTSTART;TZID=Europe/Moscow:20161027T133500
DTEND;TZID=Europe/Moscow:20161027T202000
DESCRIPTION:Savander V.I. M16-S84
LOCATION:MPK-353
SUMMARY:Problems and Prospects of Nuclear Energy
END:VEVENT
BEGIN:VEVENT
DTSTAMP:20260420T125223Z
UID:6c417dde-c4a9-40c7-babf-7d612eab3392
DTSTART;TZID=Europe/Moscow:20161102T143000
DTEND;TZID=Europe/Moscow:20161102T160500
DESCRIPTION:Savander V.I. M15-182\, M15-183
LOCATION:98-5
SUMMARY:Principles of Nuclear and Radiation Safety
END:VEVENT
BEGIN:VEVENT
DTSTAMP:20260420T125223Z
UID:5728a775-0e3e-4ab9-9ac4-ec161b10a9f7
DTSTART;TZID=Europe/Moscow:20170208T175500
DTEND;TZID=Europe/Moscow:20170208T193000
DESCRIPTION:Savander V.I. A14-105\, A14-165
LOCATION:D-302
SUMMARY:Nuclear Power Plants: Design\, Operation and Decommissioning
RRULE:FREQ=WEEKLY;UNTIL=20170531T193000;INTERVAL=2;WKST=MO
END:VEVENT
BEGIN:VEVENT
DTSTAMP:20260420T125223Z
UID:214ff775-e53f-422a-bb65-4458a7d714f5
DTSTART;TZID=Europe/Moscow:20170215T175500
DTEND;TZID=Europe/Moscow:20170215T193000
DESCRIPTION:Savander V.I. A14-105\, A14-165
LOCATION:D-302
SUMMARY:Nuclear Power Plants: Design\, Operation and Decommissioning
RRULE:FREQ=WEEKLY;UNTIL=20170524T193000;INTERVAL=2;WKST=MO
END:VEVENT
END:VCALENDAR
