BEGIN:VCALENDAR
VERSION:2.0
PRODID:icalendar-ruby
CALSCALE:GREGORIAN
METHOD:PUBLISH
BEGIN:VTIMEZONE
TZID:Europe/Moscow
BEGIN:STANDARD
DTSTART:19700101T000000
TZOFFSETFROM:+0300
TZOFFSETTO:+0300
TZNAME:MSK
END:STANDARD
END:VTIMEZONE
BEGIN:VEVENT
DTSTAMP:20260421T020850Z
UID:fbcf1a7d-f462-40f0-bf83-8fdc829319b8
DTSTART;TZID=Europe/Moscow:20230904T083000
DTEND;TZID=Europe/Moscow:20230904T100500
DESCRIPTION:M23-103
LOCATION:dep.20
SUMMARY:Military Training
RRULE:FREQ=WEEKLY;UNTIL=20231218T100500;WKST=MO
END:VEVENT
BEGIN:VEVENT
DTSTAMP:20260421T020850Z
UID:94a18d47-dce1-4918-af3c-547cfd53fbc7
DTSTART;TZID=Europe/Moscow:20230906T083000
DTEND;TZID=Europe/Moscow:20230906T100500
DESCRIPTION:Popov I.V.\, Soldatov A.A.\, Poveschenko Y.A. M23-103
LOCATION:IPM RAN
SUMMARY:Computer technologies and methods of processing of experimental dat
 a
RRULE:FREQ=WEEKLY;UNTIL=20231213T100500;INTERVAL=2;WKST=MO
END:VEVENT
BEGIN:VEVENT
DTSTAMP:20260421T020850Z
UID:683b0960-7579-498a-aae3-a74a5c12264b
DTSTART;TZID=Europe/Moscow:20230913T083000
DTEND;TZID=Europe/Moscow:20230913T100500
DESCRIPTION:Poveschenko Y.A.\, Soldatov A.A.\, Popov I.V. M23-103
LOCATION:IPM RAN
SUMMARY:Computer technologies and methods of processing of experimental dat
 a
RRULE:FREQ=WEEKLY;UNTIL=20231220T100500;INTERVAL=2;WKST=MO
END:VEVENT
BEGIN:VEVENT
DTSTAMP:20260421T020850Z
UID:c56f3f71-838a-498c-be22-43fdaddb15d8
DTSTART;TZID=Europe/Moscow:20230905T092000
DTEND;TZID=Europe/Moscow:20230905T115000
DESCRIPTION:M23-103
LOCATION:K-306
SUMMARY:Nuclear power technologies of new generation. Inzhenernye raschety 
 yadernyh energeticheskih ustanovok
RRULE:FREQ=WEEKLY;UNTIL=20231010T115000;WKST=MO
END:VEVENT
BEGIN:VEVENT
DTSTAMP:20260421T020850Z
UID:d1d3c705-c87e-42bb-81e1-456ee8f75f06
DTSTART;TZID=Europe/Moscow:20230904T101500
DTEND;TZID=Europe/Moscow:20230904T170000
DESCRIPTION:M23-103
LOCATION:dep.20
SUMMARY:Military Training
RRULE:FREQ=WEEKLY;UNTIL=20231218T170000;WKST=MO
END:VEVENT
BEGIN:VEVENT
DTSTAMP:20260421T020850Z
UID:d6a7befc-d597-46d2-90aa-45dd180110ec
DTSTART;TZID=Europe/Moscow:20230906T101500
DTEND;TZID=Europe/Moscow:20230906T124000
DESCRIPTION:M23-103
LOCATION:IPM RAN
SUMMARY:Engineering computer modeling in the nuclear industry. Programmirov
 anie na S++ i parallelnye vychisleniya
RRULE:FREQ=WEEKLY;UNTIL=20231004T124000;WKST=MO
END:VEVENT
BEGIN:VEVENT
DTSTAMP:20260421T020850Z
UID:359e27f9-2fe0-4755-870c-03868c9fb7fe
DTSTART;TZID=Europe/Moscow:20230902T101500
DTEND;TZID=Europe/Moscow:20230902T115000
DESCRIPTION:Pershukov V.A. M23-103
LOCATION:G-331
SUMMARY:Innovative Project Management
RRULE:FREQ=WEEKLY;UNTIL=20230923T115000;WKST=MO
END:VEVENT
BEGIN:VEVENT
DTSTAMP:20260421T020850Z
UID:2c30074b-67f7-4d6e-90af-c8c3a2241018
DTSTART;TZID=Europe/Moscow:20230905T115500
DTEND;TZID=Europe/Moscow:20230905T133000
DESCRIPTION:Ternovyh M.Y. M23-103
LOCATION:E-409A
SUMMARY:Software and Methods for Neuron-physics Calculations
RRULE:FREQ=WEEKLY;UNTIL=20231212T133000;INTERVAL=2;WKST=MO
END:VEVENT
BEGIN:VEVENT
DTSTAMP:20260421T020850Z
UID:e96ad936-e8ce-47c6-85c5-ba3418e32deb
DTSTART;TZID=Europe/Moscow:20230907T115500
DTEND;TZID=Europe/Moscow:20230907T133000
DESCRIPTION:Morozov E.M. M23-103
LOCATION:I-214
SUMMARY:Fracture Mechanics
RRULE:FREQ=WEEKLY;UNTIL=20231214T133000;INTERVAL=2;WKST=MO
END:VEVENT
BEGIN:VEVENT
DTSTAMP:20260421T020850Z
UID:df219330-228f-4d6e-8bf8-8bd5caf7c736
DTSTART;TZID=Europe/Moscow:20230912T115500
DTEND;TZID=Europe/Moscow:20230912T133000
DESCRIPTION:Ternovyh M.Y. M23-103
LOCATION:E-409A
SUMMARY:Software and Methods for Neuron-physics Calculations
RRULE:FREQ=WEEKLY;UNTIL=20231219T133000;INTERVAL=2;WKST=MO
END:VEVENT
BEGIN:VEVENT
DTSTAMP:20260421T020850Z
UID:2906890f-b1c8-4ccc-b2fd-8114f6b47dae
DTSTART;TZID=Europe/Moscow:20230914T115500
DTEND;TZID=Europe/Moscow:20230914T133000
DESCRIPTION:Morozov E.M. M23-103
LOCATION:I-214
SUMMARY:Fracture Mechanics
RRULE:FREQ=WEEKLY;UNTIL=20231221T133000;INTERVAL=2;WKST=MO
END:VEVENT
BEGIN:VEVENT
DTSTAMP:20260421T020850Z
UID:22d412c5-1058-48b7-a637-b8f8c6e4a725
DTSTART;TZID=Europe/Moscow:20230901T124500
DTEND;TZID=Europe/Moscow:20230901T142000
DESCRIPTION:Staltsov M.S. M23-103
LOCATION:B-217
SUMMARY:Structural materials
RRULE:FREQ=WEEKLY;UNTIL=20231215T142000;WKST=MO
END:VEVENT
BEGIN:VEVENT
DTSTAMP:20260421T020850Z
UID:347dbe39-342e-4562-8b91-eb69b94b74d4
DTSTART;TZID=Europe/Moscow:20230901T124500
DTEND;TZID=Europe/Moscow:20230901T142000
DESCRIPTION:Kornouhov V.N. M23-103
LOCATION:B-216
SUMMARY:Non energy applications of nuclear technologies
RRULE:FREQ=WEEKLY;UNTIL=20231215T142000;WKST=MO
END:VEVENT
BEGIN:VEVENT
DTSTAMP:20260421T020850Z
UID:b8b5df1d-56e4-4c2c-aadd-d82d0f917833
DTSTART;TZID=Europe/Moscow:20230901T124500
DTEND;TZID=Europe/Moscow:20230901T142000
DESCRIPTION:Tihomirov V.O. M23-103
LOCATION:V-114
SUMMARY:Operation system Linux
RRULE:FREQ=WEEKLY;UNTIL=20231215T142000;WKST=MO
END:VEVENT
BEGIN:VEVENT
DTSTAMP:20260421T020850Z
UID:647f4aa4-0a89-4591-bdc5-a664892d8045
DTSTART;TZID=Europe/Moscow:20230901T124500
DTEND;TZID=Europe/Moscow:20230901T142000
DESCRIPTION:Kullo I.G. M23-103
LOCATION:V-115
SUMMARY:Principles of TAC (Theory of Automatic Control). Potok 1
RRULE:FREQ=WEEKLY;UNTIL=20231215T142000;WKST=MO
END:VEVENT
BEGIN:VEVENT
DTSTAMP:20260421T020850Z
UID:e8e7a5b5-0ba5-455f-b852-2be14d0c10c5
DTSTART;TZID=Europe/Moscow:20230901T124500
DTEND;TZID=Europe/Moscow:20230901T142000
DESCRIPTION:Mayorov A.G. M23-103
LOCATION:B-219
SUMMARY:Chronology of the Universe
RRULE:FREQ=WEEKLY;UNTIL=20231215T142000;WKST=MO
END:VEVENT
BEGIN:VEVENT
DTSTAMP:20260421T020850Z
UID:a6c996a6-4300-4e03-afbc-7b70b8db0a57
DTSTART;TZID=Europe/Moscow:20230906T124500
DTEND;TZID=Europe/Moscow:20230906T133000
DESCRIPTION:M23-103
LOCATION:RHTU
SUMMARY:Nuclear power technologies of new generation. Radiohimiya
RRULE:FREQ=WEEKLY;UNTIL=20231220T133000;WKST=MO
END:VEVENT
BEGIN:VEVENT
DTSTAMP:20260421T020850Z
UID:f49438de-8ec4-4418-afca-5137e69f45a8
DTSTART;TZID=Europe/Moscow:20230902T124500
DTEND;TZID=Europe/Moscow:20230902T160500
DESCRIPTION:M23-103
LOCATION:B-212
SUMMARY:Nuclear power technologies of new generation. Teplonositeli yaderny
 h reaktorov
RRULE:FREQ=WEEKLY;UNTIL=20230923T160500;WKST=MO
END:VEVENT
BEGIN:VEVENT
DTSTAMP:20260421T020850Z
UID:4617ebb1-f040-4a9c-bdfc-2f43b63e663e
DTSTART;TZID=Europe/Moscow:20230906T133500
DTEND;TZID=Europe/Moscow:20230906T142000
DESCRIPTION:M23-103
LOCATION:IPM RAN
SUMMARY:Engineering computer modeling in the nuclear industry. Vychisliteln
 aya gidrodinamika i teplofizika
RRULE:FREQ=WEEKLY;UNTIL=20231220T142000;WKST=MO
END:VEVENT
BEGIN:VEVENT
DTSTAMP:20260421T020850Z
UID:7079c271-812a-42d8-bc51-9cbc0f52e1b4
DTSTART;TZID=Europe/Moscow:20230907T133500
DTEND;TZID=Europe/Moscow:20230907T151500
DESCRIPTION:Bayramukov A.A.\, Kutukov A.A. M23-103
LOCATION:B-212st
SUMMARY:Selected Chapters of Higher Mathematics
RRULE:FREQ=WEEKLY;UNTIL=20231221T151500;WKST=MO
END:VEVENT
BEGIN:VEVENT
DTSTAMP:20260421T020850Z
UID:6f8e6349-7500-4f09-9721-7db4cf58404f
DTSTART;TZID=Europe/Moscow:20230906T133500
DTEND;TZID=Europe/Moscow:20230906T151500
DESCRIPTION:M23-103
LOCATION:RHTU
SUMMARY:Nuclear power technologies of new generation. Radiohimiya
RRULE:FREQ=WEEKLY;UNTIL=20231213T151500;WKST=MO
END:VEVENT
BEGIN:VEVENT
DTSTAMP:20260421T020850Z
UID:9dbe7299-b9a6-477c-8be5-fa75cbe86260
DTSTART;TZID=Europe/Moscow:20230906T143000
DTEND;TZID=Europe/Moscow:20230906T160500
DESCRIPTION:M23-103
LOCATION:IPM RAN
SUMMARY:Engineering computer modeling in the nuclear industry. Vychisliteln
 aya gidrodinamika i teplofizika
RRULE:FREQ=WEEKLY;UNTIL=20231213T160500;WKST=MO
END:VEVENT
BEGIN:VEVENT
DTSTAMP:20260421T020850Z
UID:bd4a064b-8d22-45f3-b645-1d4a98a9b881
DTSTART;TZID=Europe/Moscow:20230901T143000
DTEND;TZID=Europe/Moscow:20230901T160500
DESCRIPTION:Polskiy V.I. M23-103
LOCATION:B-219
SUMMARY:Materials Science: Environmental Issues
RRULE:FREQ=WEEKLY;UNTIL=20231215T160500;WKST=MO
END:VEVENT
BEGIN:VEVENT
DTSTAMP:20260421T020850Z
UID:d1e0d32f-d2d6-4994-a299-81b36bfa01af
DTSTART;TZID=Europe/Moscow:20230901T143000
DTEND;TZID=Europe/Moscow:20230901T160500
DESCRIPTION:Tihomirov G.V. M23-103
LOCATION:B-216
SUMMARY:Scientific Principles of Nuclear Power
RRULE:FREQ=WEEKLY;UNTIL=20231215T160500;WKST=MO
END:VEVENT
BEGIN:VEVENT
DTSTAMP:20260421T020850Z
UID:232182f7-1372-493a-ac09-40047c8c15d0
DTSTART;TZID=Europe/Moscow:20230901T143000
DTEND;TZID=Europe/Moscow:20230901T160500
DESCRIPTION:Skorohvatov M.D.\, Machulin I.N. M23-103
LOCATION:B-217
SUMMARY:
RRULE:FREQ=WEEKLY;UNTIL=20231215T160500;WKST=MO
END:VEVENT
BEGIN:VEVENT
DTSTAMP:20260421T020850Z
UID:150f240a-2f1d-447d-98ec-107ed421236d
DTSTART;TZID=Europe/Moscow:20230901T143000
DTEND;TZID=Europe/Moscow:20230901T160500
DESCRIPTION:Zadeba E.A. M23-103
LOCATION:V-116
SUMMARY:Basics of CAD for the nuclear-physical installations
RRULE:FREQ=WEEKLY;UNTIL=20231215T160500;WKST=MO
END:VEVENT
BEGIN:VEVENT
DTSTAMP:20260421T020850Z
UID:7165a859-a77c-4182-a123-ad78e1aea9c4
DTSTART;TZID=Europe/Moscow:20230901T143000
DTEND;TZID=Europe/Moscow:20230901T160500
DESCRIPTION:Kullo I.G. M23-103
LOCATION:V-115
SUMMARY:Principles of TAC (Theory of Automatic Control). Potok 2
RRULE:FREQ=WEEKLY;UNTIL=20231215T160500;WKST=MO
END:VEVENT
BEGIN:VEVENT
DTSTAMP:20260421T020850Z
UID:94b4b1f7-306d-47b4-bf5a-be33721bb06a
DTSTART;TZID=Europe/Moscow:20230905T161500
DTEND;TZID=Europe/Moscow:20230905T175000
DESCRIPTION:Monina O.V. M23-103
LOCATION:B-210
SUMMARY:Technical English
RRULE:FREQ=WEEKLY;UNTIL=20231219T175000;WKST=MO
END:VEVENT
BEGIN:VEVENT
DTSTAMP:20260421T020850Z
UID:3de1daa9-7dbd-4e5a-bee9-a05fd84afc58
DTSTART;TZID=Europe/Moscow:20230907T161500
DTEND;TZID=Europe/Moscow:20230907T175000
DESCRIPTION:Pershukov V.A.\, Lavruhin A.A. M23-103
LOCATION:dep.89
SUMMARY:Academic Practice (Introduction)
RRULE:FREQ=WEEKLY;UNTIL=20231221T175000;WKST=MO
END:VEVENT
BEGIN:VEVENT
DTSTAMP:20260421T020850Z
UID:91b20d4c-0fe6-405b-9358-bcd08cfd789b
DTSTART;TZID=Europe/Moscow:20230901T161500
DTEND;TZID=Europe/Moscow:20230901T175000
DESCRIPTION:Yashin I.I. M23-103
LOCATION:404
SUMMARY:Nuclear Physics
RRULE:FREQ=WEEKLY;UNTIL=20231215T175000;WKST=MO
END:VEVENT
BEGIN:VEVENT
DTSTAMP:20260421T020850Z
UID:84694a4c-0785-4b57-8b62-cb96dc839044
DTSTART;TZID=Europe/Moscow:20230906T161500
DTEND;TZID=Europe/Moscow:20230906T175000
DESCRIPTION:Mazur E.A. M23-103
LOCATION:406
SUMMARY:Selected Chapters of Higher Mathematics
RRULE:FREQ=WEEKLY;UNTIL=20231213T175000;INTERVAL=2;WKST=MO
END:VEVENT
BEGIN:VEVENT
DTSTAMP:20260421T020850Z
UID:1723accd-25d0-41f6-8aac-5e59f4948f71
DTSTART;TZID=Europe/Moscow:20230901T184500
DTEND;TZID=Europe/Moscow:20230901T202000
DESCRIPTION:Vorobiev V.S. M23-103
LOCATION:V-404
SUMMARY:Nuclear Physics
RRULE:FREQ=WEEKLY;UNTIL=20231215T202000;WKST=MO
END:VEVENT
BEGIN:VEVENT
DTSTAMP:20260421T020850Z
UID:a36a68b6-128e-4d9d-ab95-126d989197ed
DTSTART;TZID=Europe/Moscow:20230919T115500
DTEND;TZID=Europe/Moscow:20230919T142000
DESCRIPTION:Soldatov A.A. M23-103
LOCATION:V-116
SUMMARY:Engineering computer modeling in the nuclear industry. Sistemy avto
 matizirovannogo proektirovaniya SAPR
RRULE:FREQ=WEEKLY;UNTIL=20231017T142000;WKST=MO
END:VEVENT
BEGIN:VEVENT
DTSTAMP:20260421T020850Z
UID:24ede1f2-734a-4561-a246-e3979bed373e
DTSTART;TZID=Europe/Moscow:20230930T101500
DTEND;TZID=Europe/Moscow:20230930T115000
DESCRIPTION:Pershukov V.A. M23-103
LOCATION:G-331
SUMMARY:Innovative Project Management
RRULE:FREQ=WEEKLY;UNTIL=20231216T115000;WKST=MO
EXDATE:20231104T101500
END:VEVENT
BEGIN:VEVENT
DTSTAMP:20260421T020850Z
UID:fa5adaf8-0123-4475-88f8-985542d740e5
DTSTART;TZID=Europe/Moscow:20230930T124500
DTEND;TZID=Europe/Moscow:20230930T160500
DESCRIPTION:Lavruhin A.A. M23-103
LOCATION:B-212
SUMMARY:Nuclear power technologies of new generation. Teplonositeli yaderny
 h reaktorov
RRULE:FREQ=WEEKLY;UNTIL=20231118T160500;WKST=MO
EXDATE:20231104T124500
END:VEVENT
BEGIN:VEVENT
DTSTAMP:20260421T020850Z
UID:2c205b64-a35f-4962-a4c4-3d47f18ddb43
DTSTART;TZID=Europe/Moscow:20231011T101500
DTEND;TZID=Europe/Moscow:20231011T124000
DESCRIPTION:M23-103
LOCATION:IPM RAN
SUMMARY:Engineering computer modeling in the nuclear industry. Programmirov
 anie na S++ i parallelnye vychisleniya
RRULE:FREQ=WEEKLY;UNTIL=20231213T124000;WKST=MO
END:VEVENT
BEGIN:VEVENT
DTSTAMP:20260421T020850Z
UID:3935de4d-22c6-45af-b667-fda93aea9a11
DTSTART;TZID=Europe/Moscow:20231017T092000
DTEND;TZID=Europe/Moscow:20231017T115000
DESCRIPTION:M23-103
LOCATION:K-306
SUMMARY:Nuclear power technologies of new generation. Inzhenernye raschety 
 yadernyh energeticheskih ustanovok
RRULE:FREQ=WEEKLY;UNTIL=20231219T115000;WKST=MO
END:VEVENT
BEGIN:VEVENT
DTSTAMP:20260421T020850Z
UID:a0a86438-d7c0-466c-a449-46283d6ebfc4
DTSTART;TZID=Europe/Moscow:20231024T115500
DTEND;TZID=Europe/Moscow:20231024T142000
DESCRIPTION:Soldatov A.A. M23-103
LOCATION:V-116
SUMMARY:Engineering computer modeling in the nuclear industry. Sistemy avto
 matizirovannogo proektirovaniya SAPR
RRULE:FREQ=WEEKLY;UNTIL=20231219T142000;WKST=MO
END:VEVENT
END:VCALENDAR
