BEGIN:VCALENDAR
VERSION:2.0
PRODID:icalendar-ruby
CALSCALE:GREGORIAN
METHOD:PUBLISH
BEGIN:VTIMEZONE
TZID:Europe/Moscow
BEGIN:STANDARD
DTSTART:19700101T000000
TZOFFSETFROM:+0300
TZOFFSETTO:+0300
TZNAME:MSK
END:STANDARD
END:VTIMEZONE
BEGIN:VEVENT
DTSTAMP:20260421T013333Z
UID:c2712635-cd83-4dc0-b897-6f0d81639f5c
DTSTART;TZID=Europe/Moscow:20230131T161500
DTEND;TZID=Europe/Moscow:20230131T175000
DESCRIPTION:Karabuschenko N.B. A21-302
SUMMARY:Elements of psychology and pedagogy
RRULE:FREQ=WEEKLY;UNTIL=20230221T175000;WKST=MO
END:VEVENT
BEGIN:VEVENT
DTSTAMP:20260421T013333Z
UID:10bc3a9a-193d-4b1d-bb18-fa5b04bff3ce
DTSTART;TZID=Europe/Moscow:20230131T175500
DTEND;TZID=Europe/Moscow:20230131T193000
DESCRIPTION:Leonova N.M. A21-302
SUMMARY:Methodology of Planning and Conducting Scientific Research
RRULE:FREQ=WEEKLY;UNTIL=20230523T193000;WKST=MO
EXDATE:20230509T175500
END:VEVENT
BEGIN:VEVENT
DTSTAMP:20260421T013333Z
UID:2eb71503-8235-49c7-9c92-66553c45bf84
DTSTART;TZID=Europe/Moscow:20230228T161500
DTEND;TZID=Europe/Moscow:20230228T175000
DESCRIPTION:Karabuschenko N.B. A21-302
SUMMARY:Elements of psychology and pedagogy
RRULE:FREQ=WEEKLY;UNTIL=20230314T175000;WKST=MO
END:VEVENT
BEGIN:VEVENT
DTSTAMP:20260421T013333Z
UID:80a3817f-4267-4d45-9dd7-276e3a339bec
DTSTART;TZID=Europe/Moscow:20230327T175500
DTEND;TZID=Europe/Moscow:20230327T193000
DESCRIPTION:Pilyugin V.V. A21-302
SUMMARY:Scientific Visualization
RRULE:FREQ=WEEKLY;UNTIL=20230501T193000;WKST=MO
EXDATE:20230501T175500
END:VEVENT
BEGIN:VEVENT
DTSTAMP:20260421T013333Z
UID:26368611-2c03-4005-8ea1-60de0b9057bc
DTSTART;TZID=Europe/Moscow:20230424T143000
DTEND;TZID=Europe/Moscow:20230424T175000
DESCRIPTION:Pilyugin V.V. A21-302
SUMMARY:Scientific Visualization
RRULE:FREQ=WEEKLY;UNTIL=20230501T175000;WKST=MO
EXDATE:20230501T143000
END:VEVENT
END:VCALENDAR
