BEGIN:VCALENDAR
VERSION:2.0
PRODID:icalendar-ruby
CALSCALE:GREGORIAN
METHOD:PUBLISH
BEGIN:VTIMEZONE
TZID:Europe/Moscow
BEGIN:STANDARD
DTSTART:19700101T000000
TZOFFSETFROM:+0300
TZOFFSETTO:+0300
TZNAME:MSK
END:STANDARD
END:VTIMEZONE
BEGIN:VEVENT
DTSTAMP:20260420T065930Z
UID:e7ed04c0-a849-42d7-8e59-e59584db75c2
DTSTART;TZID=Europe/Moscow:20220907T083000
DTEND;TZID=Europe/Moscow:20220907T110000
DESCRIPTION:Epishkina A.A. S20-391
LOCATION:64-401
SUMMARY:
RRULE:FREQ=WEEKLY;UNTIL=20230104T110000;WKST=MO
EXDATE:20230104T083000
END:VEVENT
BEGIN:VEVENT
DTSTAMP:20260420T065930Z
UID:1f6a58f1-03df-472c-a920-7faa1ba14500
DTSTART;TZID=Europe/Moscow:20220909T083000
DTEND;TZID=Europe/Moscow:20220909T100500
DESCRIPTION:Blinova E.V. S20-391
LOCATION:64-308
SUMMARY:
RRULE:FREQ=WEEKLY;UNTIL=20221230T100500;INTERVAL=2;WKST=MO
EXDATE:20221104T083000
END:VEVENT
BEGIN:VEVENT
DTSTAMP:20260420T065930Z
UID:f71c6eab-635d-4373-8466-77a625e7543f
DTSTART;TZID=Europe/Moscow:20220906T092000
DTEND;TZID=Europe/Moscow:20220906T110000
DESCRIPTION:Smirnova E.Y. S20-391
LOCATION:64-308
SUMMARY:
RRULE:FREQ=WEEKLY;UNTIL=20221227T110000;INTERVAL=2;WKST=MO
END:VEVENT
BEGIN:VEVENT
DTSTAMP:20260420T065930Z
UID:c5850765-4cde-45d3-9826-a6cb3139e157
DTSTART;TZID=Europe/Moscow:20220902T101500
DTEND;TZID=Europe/Moscow:20220902T115000
DESCRIPTION:Smirnova O.A. S20-391
LOCATION:85 KB
SUMMARY:
RRULE:FREQ=WEEKLY;UNTIL=20221216T115000;WKST=MO
EXDATE:20221104T101500
END:VEVENT
BEGIN:VEVENT
DTSTAMP:20260420T065930Z
UID:571f6e8c-309d-453c-8405-53f87f310190
DTSTART;TZID=Europe/Moscow:20220901T101500
DTEND;TZID=Europe/Moscow:20220901T115000
DESCRIPTION:Mirontsev A.V. S20-391
LOCATION:64-402
SUMMARY:
RRULE:FREQ=WEEKLY;UNTIL=20221229T115000;WKST=MO
END:VEVENT
BEGIN:VEVENT
DTSTAMP:20260420T065930Z
UID:0fa9a04b-0f56-4feb-8c2f-b86abcaad77e
DTSTART;TZID=Europe/Moscow:20220906T110500
DTEND;TZID=Europe/Moscow:20220906T133000
DESCRIPTION:Smirnova E.Y. S20-391
LOCATION:64-405
SUMMARY:
RRULE:FREQ=WEEKLY;UNTIL=20230103T133000;WKST=MO
EXDATE:20230103T110500
END:VEVENT
BEGIN:VEVENT
DTSTAMP:20260420T065930Z
UID:8f0e8c0d-fdca-4693-8f3a-d78f07373198
DTSTART;TZID=Europe/Moscow:20220907T110500
DTEND;TZID=Europe/Moscow:20220907T124000
DESCRIPTION:Epishkina A.A.\, Blinova E.V. S20-391
LOCATION:64-408
SUMMARY:
RRULE:FREQ=WEEKLY;UNTIL=20221228T124000;INTERVAL=2;WKST=MO
END:VEVENT
BEGIN:VEVENT
DTSTAMP:20260420T065930Z
UID:d40eeb0b-d8f7-44e2-b80e-743192e1f44a
DTSTART;TZID=Europe/Moscow:20220914T110500
DTEND;TZID=Europe/Moscow:20220914T124000
DESCRIPTION:Pavlova O.Y. S20-391
LOCATION:64-408
SUMMARY:
RRULE:FREQ=WEEKLY;UNTIL=20230104T124000;INTERVAL=2;WKST=MO
EXDATE:20230104T110500
END:VEVENT
BEGIN:VEVENT
DTSTAMP:20260420T065930Z
UID:5e53c98b-0a2c-4ddc-b297-3fd3f3a17d03
DTSTART;TZID=Europe/Moscow:20220903T124500
DTEND;TZID=Europe/Moscow:20220903T151500
DESCRIPTION:Shifrin Y.A. S20-391
LOCATION:64-305
SUMMARY:
RRULE:FREQ=WEEKLY;UNTIL=20221231T151500;WKST=MO
END:VEVENT
BEGIN:VEVENT
DTSTAMP:20260420T065930Z
UID:7cd20e09-ccb3-40ff-9a43-3702a9b3c260
DTSTART;TZID=Europe/Moscow:20220902T124500
DTEND;TZID=Europe/Moscow:20220902T142000
DESCRIPTION:Smirnova O.A. S20-391
LOCATION:85 KB
SUMMARY:
RRULE:FREQ=WEEKLY;UNTIL=20221223T142000;WKST=MO
EXDATE:20221104T124500
END:VEVENT
BEGIN:VEVENT
DTSTAMP:20260420T065930Z
UID:73b223c7-3094-4e0c-8a01-34ecd7d108ad
DTSTART;TZID=Europe/Moscow:20220905T124500
DTEND;TZID=Europe/Moscow:20220905T142000
DESCRIPTION:Mirontsev A.V. S20-391
LOCATION:85 KB
SUMMARY:
RRULE:FREQ=WEEKLY;UNTIL=20221212T142000;INTERVAL=2;WKST=MO
END:VEVENT
BEGIN:VEVENT
DTSTAMP:20260420T065930Z
UID:09058d7a-94dc-4c41-bebf-5175960d6e31
DTSTART;TZID=Europe/Moscow:20220912T124500
DTEND;TZID=Europe/Moscow:20220912T142000
DESCRIPTION:Smolnikov E.V. S20-391
LOCATION:64-502
SUMMARY:
RRULE:FREQ=WEEKLY;UNTIL=20230102T142000;INTERVAL=2;WKST=MO
EXDATE:20230102T124500
END:VEVENT
BEGIN:VEVENT
DTSTAMP:20260420T065930Z
UID:1058cb75-5992-4b07-86eb-13deec457676
DTSTART;TZID=Europe/Moscow:20220907T133500
DTEND;TZID=Europe/Moscow:20220907T151500
DESCRIPTION:S20-391
LOCATION:dep. 15/3
SUMMARY: Supplemental Physical Education courses
RRULE:FREQ=WEEKLY;UNTIL=20230104T151500;WKST=MO
EXDATE:20230104T133500
END:VEVENT
BEGIN:VEVENT
DTSTAMP:20260420T065930Z
UID:dfa2aad2-cdac-4a0f-bd64-6feb5d73f4d8
DTSTART;TZID=Europe/Moscow:20220905T143000
DTEND;TZID=Europe/Moscow:20220905T160500
DESCRIPTION:Smolnikov E.V. S20-391
LOCATION:64-502
SUMMARY:
RRULE:FREQ=WEEKLY;UNTIL=20230102T160500;WKST=MO
EXDATE:20230102T143000
END:VEVENT
BEGIN:VEVENT
DTSTAMP:20260420T065930Z
UID:1b77610c-1db9-44ea-83a5-8d0b46b7f86c
DTSTART;TZID=Europe/Moscow:20220906T143000
DTEND;TZID=Europe/Moscow:20220906T160500
DESCRIPTION:Pavlova O.Y. S20-391
LOCATION:64-307
SUMMARY:
RRULE:FREQ=WEEKLY;UNTIL=20220927T160500;WKST=MO
END:VEVENT
BEGIN:VEVENT
DTSTAMP:20260420T065930Z
UID:911bdd44-cd54-4dd1-93c4-25655ce95d0a
DTSTART;TZID=Europe/Moscow:20220902T143000
DTEND;TZID=Europe/Moscow:20220902T160500
DESCRIPTION:Smirnova O.A. S20-391
LOCATION:85 KB
SUMMARY:
RRULE:FREQ=WEEKLY;UNTIL=20221230T160500;WKST=MO
EXDATE:20221104T143000
END:VEVENT
BEGIN:VEVENT
DTSTAMP:20260420T065930Z
UID:6d30d11e-2b9a-4738-8c17-a5f9621b39b3
DTSTART;TZID=Europe/Moscow:20220901T143000
DTEND;TZID=Europe/Moscow:20220901T160500
DESCRIPTION:Shifrin Y.A.\, Blinova E.V. S20-391
SUMMARY:
RRULE:FREQ=WEEKLY;UNTIL=20221222T160500;INTERVAL=2;WKST=MO
END:VEVENT
BEGIN:VEVENT
DTSTAMP:20260420T065930Z
UID:bfc147a8-d65d-433a-b6c2-6bc6a927e081
DTSTART;TZID=Europe/Moscow:20220912T092000
DTEND;TZID=Europe/Moscow:20220912T115000
DESCRIPTION:Mirontsev A.V. S20-391
LOCATION:85 KB
SUMMARY:
RRULE:FREQ=WEEKLY;UNTIL=20221205T115000;WKST=MO
END:VEVENT
BEGIN:VEVENT
DTSTAMP:20260420T065930Z
UID:d3441af9-a3ff-4573-9924-3e0534bca54d
DTSTART;TZID=Europe/Moscow:20220929T170500
DTEND;TZID=Europe/Moscow:20220929T184000
DESCRIPTION:Pavlova O.Y. S20-391
SUMMARY:
RRULE:FREQ=WEEKLY;UNTIL=20221229T184000;WKST=MO
END:VEVENT
END:VCALENDAR
