BEGIN:VCALENDAR
VERSION:2.0
PRODID:icalendar-ruby
CALSCALE:GREGORIAN
METHOD:PUBLISH
BEGIN:VTIMEZONE
TZID:Europe/Moscow
BEGIN:STANDARD
DTSTART:19700101T000000
TZOFFSETFROM:+0300
TZOFFSETTO:+0300
TZNAME:MSK
END:STANDARD
END:VTIMEZONE
BEGIN:VEVENT
DTSTAMP:20260420T043030Z
UID:205d0a6b-b17c-435a-a6ac-083730f95d38
DTSTART;TZID=Europe/Moscow:20220905T083000
DTEND;TZID=Europe/Moscow:20220905T100500
DESCRIPTION:M22-106
LOCATION:dep.20
SUMMARY:Military Training
RRULE:FREQ=WEEKLY;UNTIL=20221219T100500;WKST=MO
END:VEVENT
BEGIN:VEVENT
DTSTAMP:20260420T043030Z
UID:d8f2f8e5-d478-4935-864d-3fa2d4d92519
DTSTART;TZID=Europe/Moscow:20220902T083000
DTEND;TZID=Europe/Moscow:20220902T100500
DESCRIPTION:Bykanova N.N. M22-106
SUMMARY:English Language (Technological Terminology )
RRULE:FREQ=WEEKLY;UNTIL=20221216T100500;WKST=MO
EXDATE:20221104T083000
END:VEVENT
BEGIN:VEVENT
DTSTAMP:20260420T043030Z
UID:b83013c4-b38c-4aa0-8725-9c85def95ef4
DTSTART;TZID=Europe/Moscow:20220901T083000
DTEND;TZID=Europe/Moscow:20220901T100500
DESCRIPTION:Salahutdinov G.H. M22-106
LOCATION:B-212st
SUMMARY:Experimental Methods of Nuclear Physics
RRULE:FREQ=WEEKLY;UNTIL=20221215T100500;WKST=MO
END:VEVENT
BEGIN:VEVENT
DTSTAMP:20260420T043030Z
UID:fd274463-9a2f-4d82-9a23-0899eae68f8c
DTSTART;TZID=Europe/Moscow:20220901T101500
DTEND;TZID=Europe/Moscow:20220901T133000
DESCRIPTION:Naumov P.Y. M22-106
LOCATION:E-311
SUMMARY:Introduction to Scientific Research Work
RRULE:FREQ=WEEKLY;UNTIL=20221215T133000;WKST=MO
END:VEVENT
BEGIN:VEVENT
DTSTAMP:20260420T043030Z
UID:f0335505-aae7-4e6b-b0e4-f73043624b01
DTSTART;TZID=Europe/Moscow:20220902T101500
DTEND;TZID=Europe/Moscow:20220902T115000
DESCRIPTION:Pilyugin V.V. M22-106
SUMMARY:Visual Analytics
RRULE:FREQ=WEEKLY;UNTIL=20221216T115000;WKST=MO
EXDATE:20221104T101500
END:VEVENT
BEGIN:VEVENT
DTSTAMP:20260420T043030Z
UID:32e92f98-a5b0-43b0-9241-8f5bd940f5e3
DTSTART;TZID=Europe/Moscow:20220905T101500
DTEND;TZID=Europe/Moscow:20220905T160500
DESCRIPTION:M22-106
LOCATION:dep.20
SUMMARY:Military Training
RRULE:FREQ=WEEKLY;UNTIL=20221219T160500;WKST=MO
END:VEVENT
BEGIN:VEVENT
DTSTAMP:20260420T043030Z
UID:0f701011-7c73-4d67-899e-617bdf56e755
DTSTART;TZID=Europe/Moscow:20220902T101500
DTEND;TZID=Europe/Moscow:20220902T115000
DESCRIPTION:Polskiy V.I. M22-106
SUMMARY:Materials Science: Environmental Issues
RRULE:FREQ=WEEKLY;UNTIL=20221216T115000;WKST=MO
EXDATE:20221104T101500
END:VEVENT
BEGIN:VEVENT
DTSTAMP:20260420T043030Z
UID:46067634-6826-449b-a511-1aef2408ea6d
DTSTART;TZID=Europe/Moscow:20220902T101500
DTEND;TZID=Europe/Moscow:20220902T115000
DESCRIPTION:Tihomirov G.V.\, Bogdanova E.V. M22-106
SUMMARY:Scientific Principles of Nuclear Power
RRULE:FREQ=WEEKLY;UNTIL=20221216T115000;WKST=MO
EXDATE:20221104T101500
END:VEVENT
BEGIN:VEVENT
DTSTAMP:20260420T043030Z
UID:1fad3c39-22df-4f8d-af64-dd9557c17d38
DTSTART;TZID=Europe/Moscow:20220902T101500
DTEND;TZID=Europe/Moscow:20220902T115000
DESCRIPTION:Kornouhov V.N. M22-106
SUMMARY:
RRULE:FREQ=WEEKLY;UNTIL=20221216T115000;WKST=MO
EXDATE:20221104T101500
END:VEVENT
BEGIN:VEVENT
DTSTAMP:20260420T043030Z
UID:c6ba1031-f6fd-40b1-a6dc-965b7da372b0
DTSTART;TZID=Europe/Moscow:20220902T101500
DTEND;TZID=Europe/Moscow:20220902T115000
DESCRIPTION:Tihomirov V.O. M22-106
SUMMARY:Linux operating system
RRULE:FREQ=WEEKLY;UNTIL=20221216T115000;WKST=MO
EXDATE:20221104T101500
END:VEVENT
BEGIN:VEVENT
DTSTAMP:20260420T043030Z
UID:a027a392-3760-436a-9c92-314f5754d0df
DTSTART;TZID=Europe/Moscow:20220902T101500
DTEND;TZID=Europe/Moscow:20220902T115000
DESCRIPTION:Zadeba E.A. M22-106
SUMMARY:Principles of CAD for nuclear-physics installations
RRULE:FREQ=WEEKLY;UNTIL=20221216T115000;WKST=MO
EXDATE:20221104T101500
END:VEVENT
BEGIN:VEVENT
DTSTAMP:20260420T043030Z
UID:df1a3c14-fbb0-495e-97f5-2894cb19de4d
DTSTART;TZID=Europe/Moscow:20220901T101500
DTEND;TZID=Europe/Moscow:20220901T133000
DESCRIPTION:Salahutdinov G.H.\, Penionzhkevich Y.E. M22-106
LOCATION:E-313
SUMMARY:Physics of Heavy Ions
RRULE:FREQ=WEEKLY;UNTIL=20221215T133000;WKST=MO
END:VEVENT
BEGIN:VEVENT
DTSTAMP:20260420T043030Z
UID:4f55a1a0-9b3d-41bf-beae-baf0384b4243
DTSTART;TZID=Europe/Moscow:20220902T124500
DTEND;TZID=Europe/Moscow:20220902T142000
DESCRIPTION:Staltsov M.S. M22-106
SUMMARY:Structural materials
RRULE:FREQ=WEEKLY;UNTIL=20221216T142000;WKST=MO
EXDATE:20221104T124500
END:VEVENT
BEGIN:VEVENT
DTSTAMP:20260420T043030Z
UID:44590d2e-0dc7-4c20-9ec3-3ca994fe59ff
DTSTART;TZID=Europe/Moscow:20220902T124500
DTEND;TZID=Europe/Moscow:20220902T142000
DESCRIPTION:Aleksandrov A.I.\, Roganov E.A. M22-106
SUMMARY:Object-oriented programming in Python
RRULE:FREQ=WEEKLY;UNTIL=20221216T142000;WKST=MO
EXDATE:20221104T124500
END:VEVENT
BEGIN:VEVENT
DTSTAMP:20260420T043030Z
UID:69c78b1a-2365-4472-a8e2-fadcb3152e5a
DTSTART;TZID=Europe/Moscow:20220902T124500
DTEND;TZID=Europe/Moscow:20220902T142000
DESCRIPTION:Sevryukov O.N. M22-106
SUMMARY:Principles of Materials Science
RRULE:FREQ=WEEKLY;UNTIL=20221216T142000;WKST=MO
EXDATE:20221104T124500
END:VEVENT
BEGIN:VEVENT
DTSTAMP:20260420T043030Z
UID:6279c812-b3ad-40bf-b71e-124936349187
DTSTART;TZID=Europe/Moscow:20220902T124500
DTEND;TZID=Europe/Moscow:20220902T142000
DESCRIPTION:Mayorov A.G.\, Rodenko S.A. M22-106
SUMMARY:Origin Of The Universe
RRULE:FREQ=WEEKLY;UNTIL=20221216T142000;WKST=MO
EXDATE:20221104T124500
END:VEVENT
BEGIN:VEVENT
DTSTAMP:20260420T043031Z
UID:47ee12bc-78bc-4511-b027-172a5da1c719
DTSTART;TZID=Europe/Moscow:20220902T124500
DTEND;TZID=Europe/Moscow:20220902T142000
DESCRIPTION:Kullo I.G. M22-106
SUMMARY:Control Systems Engineering
RRULE:FREQ=WEEKLY;UNTIL=20221216T142000;WKST=MO
EXDATE:20221104T124500
END:VEVENT
BEGIN:VEVENT
DTSTAMP:20260420T043031Z
UID:4670f4b2-dd0c-45ac-9e07-554ce46a065d
DTSTART;TZID=Europe/Moscow:20220906T143000
DTEND;TZID=Europe/Moscow:20220906T160500
DESCRIPTION:Naumov P.Y.\, Kirsanov M.A. M22-106
LOCATION:dep.11
SUMMARY:Academic Practice (Introductoion)
RRULE:FREQ=WEEKLY;UNTIL=20221220T160500;WKST=MO
END:VEVENT
BEGIN:VEVENT
DTSTAMP:20260420T043031Z
UID:00850c3c-7fe7-4566-840a-062f0f9a40ac
DTSTART;TZID=Europe/Moscow:20220901T143000
DTEND;TZID=Europe/Moscow:20220901T160500
DESCRIPTION:Grigorieva I.G. M22-106
LOCATION:B-218
SUMMARY:Experimental Methods of Nuclear Physics
RRULE:FREQ=WEEKLY;UNTIL=20221215T160500;WKST=MO
END:VEVENT
BEGIN:VEVENT
DTSTAMP:20260420T043031Z
UID:cd65e8ff-ae30-4f9a-acbe-dc2c94040125
DTSTART;TZID=Europe/Moscow:20220902T143000
DTEND;TZID=Europe/Moscow:20220902T160500
DESCRIPTION:Yashin I.I. M22-106
SUMMARY:Nuclear Physics
RRULE:FREQ=WEEKLY;UNTIL=20221216T160500;WKST=MO
EXDATE:20221104T143000
END:VEVENT
BEGIN:VEVENT
DTSTAMP:20260420T043031Z
UID:3fcf9691-7159-41db-9d87-7189b3f71e1e
DTSTART;TZID=Europe/Moscow:20220903T161500
DTEND;TZID=Europe/Moscow:20220903T175000
DESCRIPTION:Markevich E.V. M22-106
SUMMARY:Russian As a Foreign Language
RRULE:FREQ=WEEKLY;UNTIL=20221217T175000;WKST=MO
END:VEVENT
BEGIN:VEVENT
DTSTAMP:20260420T043031Z
UID:5a437601-c2c8-4fe4-8a53-3f0517aad43d
DTSTART;TZID=Europe/Moscow:20220901T161500
DTEND;TZID=Europe/Moscow:20220901T175000
DESCRIPTION:Chupova D.S.\, Suharev M.B. M22-106
LOCATION:K-414
SUMMARY:Selected Chapters of Higher Mathematics
RRULE:FREQ=WEEKLY;UNTIL=20221215T175000;WKST=MO
END:VEVENT
BEGIN:VEVENT
DTSTAMP:20260420T043031Z
UID:786d78be-69bc-4ddf-94ae-0352a27466fa
DTSTART;TZID=Europe/Moscow:20220906T161500
DTEND;TZID=Europe/Moscow:20220906T175000
DESCRIPTION:Astapov I.I. M22-106
LOCATION:K-206
SUMMARY:Nuclear Physics
RRULE:FREQ=WEEKLY;UNTIL=20221220T175000;WKST=MO
END:VEVENT
BEGIN:VEVENT
DTSTAMP:20260420T043031Z
UID:a99501a4-69cb-4231-b62d-ec6d2b6c6ac5
DTSTART;TZID=Europe/Moscow:20220902T161500
DTEND;TZID=Europe/Moscow:20220902T175000
DESCRIPTION:Mazur E.A. M22-106
SUMMARY:Selected Chapters of Higher Mathematics
RRULE:FREQ=WEEKLY;UNTIL=20221209T175000;INTERVAL=2;WKST=MO
END:VEVENT
BEGIN:VEVENT
DTSTAMP:20260420T043031Z
UID:d344953f-ada2-49bb-91d1-9114685e9111
DTSTART;TZID=Europe/Moscow:20220906T184500
DTEND;TZID=Europe/Moscow:20220906T193000
DESCRIPTION:Pyatkov Y.V. M22-106
LOCATION:E-311
SUMMARY:Nuclear Radiation Sources of Low and Medium Power
RRULE:FREQ=WEEKLY;UNTIL=20221220T193000;WKST=MO
END:VEVENT
BEGIN:VEVENT
DTSTAMP:20260420T043031Z
UID:ce463071-c5d4-4857-b930-89c0f76e1106
DTSTART;TZID=Europe/Moscow:20220906T184500
DTEND;TZID=Europe/Moscow:20220906T193000
DESCRIPTION:Fedotov S.N. M22-106
LOCATION:E-313
SUMMARY:Methodology of Research Results Processing 
RRULE:FREQ=WEEKLY;UNTIL=20221220T193000;WKST=MO
END:VEVENT
BEGIN:VEVENT
DTSTAMP:20260420T043031Z
UID:0e979245-a125-4528-a8d2-ae718c90734c
DTSTART;TZID=Europe/Moscow:20220906T193500
DTEND;TZID=Europe/Moscow:20220906T211000
DESCRIPTION:Pyatkov Y.V. M22-106
LOCATION:E-311
SUMMARY:Nuclear Radiation Sources of Low and Medium Power
RRULE:FREQ=WEEKLY;UNTIL=20221220T211000;WKST=MO
END:VEVENT
BEGIN:VEVENT
DTSTAMP:20260420T043031Z
UID:624a0c28-e0dd-4853-bcb1-f3d885eb9552
DTSTART;TZID=Europe/Moscow:20220906T193500
DTEND;TZID=Europe/Moscow:20220906T211000
DESCRIPTION:Fedotov S.N. M22-106
LOCATION:E-313
SUMMARY:Methodology of Research Results Processing 
RRULE:FREQ=WEEKLY;UNTIL=20221220T211000;WKST=MO
END:VEVENT
END:VCALENDAR
