BEGIN:VCALENDAR
VERSION:2.0
PRODID:icalendar-ruby
CALSCALE:GREGORIAN
METHOD:PUBLISH
BEGIN:VTIMEZONE
TZID:Europe/Moscow
BEGIN:STANDARD
DTSTART:19700101T000000
TZOFFSETFROM:+0300
TZOFFSETTO:+0300
TZNAME:MSK
END:STANDARD
END:VTIMEZONE
BEGIN:VEVENT
DTSTAMP:20260419T214726Z
UID:ed230a76-5263-4f3a-8feb-823f14319e5b
DTSTART;TZID=Europe/Moscow:20220907T184500
DTEND;TZID=Europe/Moscow:20220907T220000
DESCRIPTION:Guseva A.I.\, Matrosova E.V. M20-V03
LOCATION:dep.71
SUMMARY:Practical Training (Research Work)
RRULE:FREQ=WEEKLY;UNTIL=20221026T220000;WKST=MO
END:VEVENT
END:VCALENDAR
