BEGIN:VCALENDAR
VERSION:2.0
PRODID:icalendar-ruby
CALSCALE:GREGORIAN
METHOD:PUBLISH
BEGIN:VTIMEZONE
TZID:Europe/Moscow
BEGIN:STANDARD
DTSTART:19700101T000000
TZOFFSETFROM:+0300
TZOFFSETTO:+0300
TZNAME:MSK
END:STANDARD
END:VTIMEZONE
BEGIN:VEVENT
DTSTAMP:20260419T135919Z
UID:cd3eed11-dc03-48c4-a88f-2fab6b5567fd
DTSTART;TZID=Europe/Moscow:20220901T083000
DTEND;TZID=Europe/Moscow:20220901T100500
DESCRIPTION:Efanov D.V. B20-565
LOCATION:T-208
SUMMARY:Operation Systems Security
RRULE:FREQ=WEEKLY;UNTIL=20221117T100500;WKST=MO
END:VEVENT
BEGIN:VEVENT
DTSTAMP:20260419T135919Z
UID:c56edbc0-07eb-4075-8c6e-46807ab8817f
DTSTART;TZID=Europe/Moscow:20220906T083000
DTEND;TZID=Europe/Moscow:20220906T100500
DESCRIPTION:Polyakov A.A. B20-565
LOCATION:V-103
SUMMARY:software Security
RRULE:FREQ=WEEKLY;UNTIL=20221213T100500;INTERVAL=2;WKST=MO
END:VEVENT
BEGIN:VEVENT
DTSTAMP:20260419T135919Z
UID:b5cabaff-2c6a-42d9-8c98-e064ec4e4097
DTSTART;TZID=Europe/Moscow:20220913T083000
DTEND;TZID=Europe/Moscow:20220913T100500
DESCRIPTION:Polyakov A.A. B20-565
LOCATION:T-209
SUMMARY:software Security
RRULE:FREQ=WEEKLY;UNTIL=20221220T100500;INTERVAL=2;WKST=MO
END:VEVENT
BEGIN:VEVENT
DTSTAMP:20260419T135919Z
UID:bede9f70-dfaa-4269-a2ea-b7fa75c71877
DTSTART;TZID=Europe/Moscow:20220907T101500
DTEND;TZID=Europe/Moscow:20220907T115000
DESCRIPTION:Agapova V.M. B20-565
LOCATION:323
SUMMARY:Principles of Professional Communication in a Foreign Language
RRULE:FREQ=WEEKLY;UNTIL=20221221T115000;WKST=MO
END:VEVENT
BEGIN:VEVENT
DTSTAMP:20260419T135919Z
UID:5b11b11c-e54f-45df-893c-3bd49cb270f6
DTSTART;TZID=Europe/Moscow:20220906T101500
DTEND;TZID=Europe/Moscow:20220906T115000
DESCRIPTION:Ivanenko V.G. B20-565
LOCATION:T-101
SUMMARY:Information Theory
RRULE:FREQ=WEEKLY;UNTIL=20221220T115000;WKST=MO
END:VEVENT
BEGIN:VEVENT
DTSTAMP:20260419T135919Z
UID:3c85f977-16fd-4d15-bfb3-82f6227849d9
DTSTART;TZID=Europe/Moscow:20220901T101500
DTEND;TZID=Europe/Moscow:20220901T115000
DESCRIPTION:B20-565
LOCATION:dep. 15/3
SUMMARY:Physical Education (Elective Discipline)
RRULE:FREQ=WEEKLY;UNTIL=20221215T115000;WKST=MO
END:VEVENT
BEGIN:VEVENT
DTSTAMP:20260419T135919Z
UID:b47d7a1b-8b08-4a7d-a00c-af741ee07d2f
DTSTART;TZID=Europe/Moscow:20220907T115500
DTEND;TZID=Europe/Moscow:20220907T133000
DESCRIPTION:Ivanenko V.G. B20-565
LOCATION:T-208
SUMMARY:Information Theory
RRULE:FREQ=WEEKLY;UNTIL=20221221T133000;WKST=MO
END:VEVENT
BEGIN:VEVENT
DTSTAMP:20260419T135919Z
UID:24ddb1cd-0bf5-47ce-a29e-1ea0532375f0
DTSTART;TZID=Europe/Moscow:20220901T115500
DTEND;TZID=Europe/Moscow:20220901T133000
DESCRIPTION:Krasnoborodko A.A. B20-565
LOCATION:405
SUMMARY:Technological Information Security
RRULE:FREQ=WEEKLY;UNTIL=20221215T133000;WKST=MO
END:VEVENT
BEGIN:VEVENT
DTSTAMP:20260419T135919Z
UID:90e0f8a5-29d5-4b1a-9a8c-ede7fd3b1570
DTSTART;TZID=Europe/Moscow:20220903T124500
DTEND;TZID=Europe/Moscow:20220903T142000
DESCRIPTION:Efanov D.V.\, Roschin P.G. B20-565
LOCATION:V-103
SUMMARY:Operation Systems Security
RRULE:FREQ=WEEKLY;UNTIL=20221217T142000;WKST=MO
END:VEVENT
BEGIN:VEVENT
DTSTAMP:20260419T135919Z
UID:fbd215f2-ddd5-4287-81da-4b92396399b7
DTSTART;TZID=Europe/Moscow:20220906T124500
DTEND;TZID=Europe/Moscow:20220906T142000
DESCRIPTION:Epishkina A.V. B20-565
LOCATION:T-208
SUMMARY:
RRULE:FREQ=WEEKLY;UNTIL=20221220T142000;WKST=MO
END:VEVENT
BEGIN:VEVENT
DTSTAMP:20260419T135920Z
UID:3e14d596-cd0b-41e6-8bd3-61040e018fc5
DTSTART;TZID=Europe/Moscow:20220905T124500
DTEND;TZID=Europe/Moscow:20220905T142000
DESCRIPTION:Epishkina A.V.\, Kogos K.G. B20-565
LOCATION:dep.42
SUMMARY:
RRULE:FREQ=WEEKLY;UNTIL=20221219T142000;WKST=MO
END:VEVENT
BEGIN:VEVENT
DTSTAMP:20260419T135920Z
UID:609b06ec-797c-4367-9cf3-cb59f1201123
DTSTART;TZID=Europe/Moscow:20220907T143000
DTEND;TZID=Europe/Moscow:20220907T160500
DESCRIPTION:Finoshin M.A. B20-565
LOCATION:T-108
SUMMARY:
RRULE:FREQ=WEEKLY;UNTIL=20221221T160500;WKST=MO
END:VEVENT
BEGIN:VEVENT
DTSTAMP:20260419T135920Z
UID:f54d3101-8890-4ec0-a35d-c921886b34ec
DTSTART;TZID=Europe/Moscow:20220901T143000
DTEND;TZID=Europe/Moscow:20220901T175000
DESCRIPTION:Matiev D.M. B20-565
LOCATION:T-102
SUMMARY:
RRULE:FREQ=WEEKLY;UNTIL=20221215T175000;WKST=MO
END:VEVENT
BEGIN:VEVENT
DTSTAMP:20260419T135920Z
UID:c5b2848c-2400-49d3-af4a-465906e39b9d
DTSTART;TZID=Europe/Moscow:20220903T143000
DTEND;TZID=Europe/Moscow:20220903T160500
DESCRIPTION:Borzunov G.I. B20-565
LOCATION:T-208
SUMMARY:Parallel Programming
RRULE:FREQ=WEEKLY;UNTIL=20221217T160500;WKST=MO
END:VEVENT
BEGIN:VEVENT
DTSTAMP:20260419T135920Z
UID:a8651313-39c0-4ec2-81f4-5f6a715b76e8
DTSTART;TZID=Europe/Moscow:20220905T143000
DTEND;TZID=Europe/Moscow:20220905T160500
DESCRIPTION:Kupriyashin M.A.\, Borzunov G.I. B20-565
LOCATION:T-101
SUMMARY:Parallel Programming
RRULE:FREQ=WEEKLY;UNTIL=20221219T160500;WKST=MO
END:VEVENT
BEGIN:VEVENT
DTSTAMP:20260419T135920Z
UID:4a9279e3-5654-419d-a7cb-1c16e80328d6
DTSTART;TZID=Europe/Moscow:20220901T143000
DTEND;TZID=Europe/Moscow:20220901T175000
DESCRIPTION:Kupriyashin M.A. B20-565
LOCATION:T-107
SUMMARY:
RRULE:FREQ=WEEKLY;UNTIL=20221215T175000;WKST=MO
END:VEVENT
BEGIN:VEVENT
DTSTAMP:20260419T135920Z
UID:f09eda99-5752-446c-9a87-29722323b169
DTSTART;TZID=Europe/Moscow:20220901T143000
DTEND;TZID=Europe/Moscow:20220901T175000
DESCRIPTION:Lavrentiev N.P. B20-565
LOCATION:T-100b
SUMMARY:Special Topics in Electronics
RRULE:FREQ=WEEKLY;UNTIL=20221215T175000;WKST=MO
END:VEVENT
BEGIN:VEVENT
DTSTAMP:20260419T135920Z
UID:aa7450e9-d306-468b-8c0f-661527954196
DTSTART;TZID=Europe/Moscow:20220913T143000
DTEND;TZID=Europe/Moscow:20220913T160500
DESCRIPTION:Krasnoborodko A.A. B20-565
LOCATION:E-409A
SUMMARY:Technological Information Security
RRULE:FREQ=WEEKLY;UNTIL=20221220T160500;INTERVAL=2;WKST=MO
END:VEVENT
BEGIN:VEVENT
DTSTAMP:20260419T135920Z
UID:b5712215-9ad5-4819-8ae3-9df68a4d9928
DTSTART;TZID=Europe/Moscow:20220905T161500
DTEND;TZID=Europe/Moscow:20220905T175000
DESCRIPTION:Kupriyashin M.A. B20-565
LOCATION:V-114
SUMMARY:Parallel Programming
RRULE:FREQ=WEEKLY;UNTIL=20221219T175000;WKST=MO
END:VEVENT
BEGIN:VEVENT
DTSTAMP:20260419T135920Z
UID:2079d56d-6ee7-472e-927d-f24811adb242
DTSTART;TZID=Europe/Moscow:20220907T161500
DTEND;TZID=Europe/Moscow:20220907T175000
DESCRIPTION:Ryabov P.N. B20-565
LOCATION:405
SUMMARY:
RRULE:FREQ=WEEKLY;UNTIL=20221214T175000;INTERVAL=2;WKST=MO
END:VEVENT
BEGIN:VEVENT
DTSTAMP:20260419T135920Z
UID:45791a40-7d14-42e0-b698-5f6538750590
DTSTART;TZID=Europe/Moscow:20220914T161500
DTEND;TZID=Europe/Moscow:20220914T175000
DESCRIPTION:Chupova D.S. B20-565
LOCATION:V-114
SUMMARY:
RRULE:FREQ=WEEKLY;UNTIL=20221221T175000;INTERVAL=2;WKST=MO
END:VEVENT
BEGIN:VEVENT
DTSTAMP:20260419T135920Z
UID:8072d168-a4ef-459b-9256-2a8e153809b2
DTSTART;TZID=Europe/Moscow:20220905T184500
DTEND;TZID=Europe/Moscow:20220905T202000
DESCRIPTION:Serechenko D.V. B20-565
LOCATION:T-101
SUMMARY:
RRULE:FREQ=WEEKLY;UNTIL=20220919T202000;WKST=MO
END:VEVENT
BEGIN:VEVENT
DTSTAMP:20260419T135920Z
UID:3adcc39a-41f3-42e3-b548-d3755197017f
DTSTART;TZID=Europe/Moscow:20220907T184500
DTEND;TZID=Europe/Moscow:20220907T202000
DESCRIPTION:Zhurin S.I. B20-565
LOCATION:T-208
SUMMARY:Organizational and Legal Support of Information Security
RRULE:FREQ=WEEKLY;UNTIL=20220921T202000;WKST=MO
END:VEVENT
BEGIN:VEVENT
DTSTAMP:20260419T135920Z
UID:8f8055ea-63dd-4088-9087-4bced0dd43aa
DTSTART;TZID=Europe/Moscow:20220905T202500
DTEND;TZID=Europe/Moscow:20220905T220000
DESCRIPTION:Serechenko D.V. B20-565
LOCATION:T-102
SUMMARY:
RRULE:FREQ=WEEKLY;UNTIL=20221219T220000;WKST=MO
END:VEVENT
BEGIN:VEVENT
DTSTAMP:20260419T135920Z
UID:b0872508-b6f4-441a-bedb-b7a6a832adf6
DTSTART;TZID=Europe/Moscow:20220928T184500
DTEND;TZID=Europe/Moscow:20220928T202000
DESCRIPTION:Serechenko D.V. B20-565
LOCATION:T-102
SUMMARY:
RRULE:FREQ=WEEKLY;UNTIL=20221221T202000;WKST=MO
END:VEVENT
BEGIN:VEVENT
DTSTAMP:20260419T135920Z
UID:7bc5202a-ce27-4977-b9ae-f6d844c4c0ff
DTSTART;TZID=Europe/Moscow:20220926T184500
DTEND;TZID=Europe/Moscow:20220926T202000
DESCRIPTION:Zhurin S.I. B20-565
LOCATION:T-208
SUMMARY:Organizational and Legal Support of Information Security
RRULE:FREQ=WEEKLY;UNTIL=20221219T202000;WKST=MO
END:VEVENT
BEGIN:VEVENT
DTSTAMP:20260419T135920Z
UID:3f7cd5f9-a9f9-43c9-a9cf-7cb92ad6685e
DTSTART;TZID=Europe/Moscow:20221126T161500
DTEND;TZID=Europe/Moscow:20221126T175000
DESCRIPTION:Efanov D.V. B20-565
LOCATION:T-208
SUMMARY:Operation Systems Security
RRULE:FREQ=WEEKLY;UNTIL=20221217T175000;WKST=MO
END:VEVENT
END:VCALENDAR
