BEGIN:VCALENDAR
VERSION:2.0
PRODID:icalendar-ruby
CALSCALE:GREGORIAN
METHOD:PUBLISH
BEGIN:VTIMEZONE
TZID:Europe/Moscow
BEGIN:STANDARD
DTSTART:19700101T000000
TZOFFSETFROM:+0300
TZOFFSETTO:+0300
TZNAME:MSK
END:STANDARD
END:VTIMEZONE
BEGIN:VEVENT
DTSTAMP:20260420T011958Z
UID:4877d5d6-5a1f-42d6-9b48-8a653fb2b0f6
DTSTART;TZID=Europe/Moscow:20220905T101500
DTEND;TZID=Europe/Moscow:20220905T115000
DESCRIPTION:Aleshinskaya E.V. A22-502
SUMMARY:Foreign Language
END:VEVENT
BEGIN:VEVENT
DTSTAMP:20260420T011958Z
UID:2255a969-5b2c-485f-87f1-e23b1a0b1821
DTSTART;TZID=Europe/Moscow:20220902T161500
DTEND;TZID=Europe/Moscow:20220902T175000
DESCRIPTION:Leschev S.V. A22-502
SUMMARY:History and Philosophy of Science
RRULE:FREQ=WEEKLY;UNTIL=20221223T175000;WKST=MO
EXDATE:20221104T161500
END:VEVENT
BEGIN:VEVENT
DTSTAMP:20260420T011958Z
UID:f560aa09-df4b-4826-a63c-4d6c309d114e
DTSTART;TZID=Europe/Moscow:20220903T161500
DTEND;TZID=Europe/Moscow:20220903T175000
DESCRIPTION:Leschev S.V. A22-502
SUMMARY:History and Philosophy of Science
RRULE:FREQ=WEEKLY;UNTIL=20221224T175000;WKST=MO
END:VEVENT
BEGIN:VEVENT
DTSTAMP:20260420T011958Z
UID:0d732080-cd54-4980-a460-8054fa38e56e
DTSTART;TZID=Europe/Moscow:20220902T175500
DTEND;TZID=Europe/Moscow:20220902T193000
DESCRIPTION:Leonova N.M. A22-502
SUMMARY:Methodology of Planning and Conducting Scientific Research
RRULE:FREQ=WEEKLY;UNTIL=20221223T193000;INTERVAL=2;WKST=MO
END:VEVENT
BEGIN:VEVENT
DTSTAMP:20260420T011958Z
UID:b0a1501a-3d01-469e-aff5-2eddc76f3c51
DTSTART;TZID=Europe/Moscow:20220912T143000
DTEND;TZID=Europe/Moscow:20220912T160500
DESCRIPTION:Aleshinskaya E.V. A22-502
SUMMARY:Foreign Language
RRULE:FREQ=WEEKLY;UNTIL=20221003T160500;WKST=MO
END:VEVENT
BEGIN:VEVENT
DTSTAMP:20260420T011958Z
UID:795b4e3b-efe1-4215-94d9-ccd7334d78c4
DTSTART;TZID=Europe/Moscow:20221010T101500
DTEND;TZID=Europe/Moscow:20221010T115000
DESCRIPTION:Aleshinskaya E.V. A22-502
SUMMARY:Foreign Language
RRULE:FREQ=WEEKLY;UNTIL=20221226T115000;WKST=MO
END:VEVENT
END:VCALENDAR
