BEGIN:VCALENDAR
VERSION:2.0
PRODID:icalendar-ruby
CALSCALE:GREGORIAN
METHOD:PUBLISH
BEGIN:VTIMEZONE
TZID:Europe/Moscow
BEGIN:STANDARD
DTSTART:19700101T000000
TZOFFSETFROM:+0300
TZOFFSETTO:+0300
TZNAME:MSK
END:STANDARD
END:VTIMEZONE
BEGIN:VEVENT
DTSTAMP:20260419T222614Z
UID:63be2194-d0ea-433a-afa7-872f7c5f0aab
DTSTART;TZID=Europe/Moscow:20220906T124500
DTEND;TZID=Europe/Moscow:20220906T142000
DESCRIPTION:Aleshinskaya E.V. A22-202
SUMMARY:Foreign Language
END:VEVENT
BEGIN:VEVENT
DTSTAMP:20260419T222614Z
UID:759ffa7e-d4b1-414d-bf55-e7088c2c52cc
DTSTART;TZID=Europe/Moscow:20220903T124500
DTEND;TZID=Europe/Moscow:20220903T142000
DESCRIPTION:Leschev S.V. A22-202
SUMMARY:History and Philosophy of Science
RRULE:FREQ=WEEKLY;UNTIL=20221224T142000;WKST=MO
END:VEVENT
BEGIN:VEVENT
DTSTAMP:20260419T222614Z
UID:1f3fd742-6d78-4a95-a633-108687322e0b
DTSTART;TZID=Europe/Moscow:20220902T161500
DTEND;TZID=Europe/Moscow:20220902T175000
DESCRIPTION:Leschev S.V. A22-202
SUMMARY:History and Philosophy of Science
RRULE:FREQ=WEEKLY;UNTIL=20221223T175000;WKST=MO
EXDATE:20221104T161500
END:VEVENT
BEGIN:VEVENT
DTSTAMP:20260419T222614Z
UID:6beaf804-0d94-422d-8e62-6fe8f42f049d
DTSTART;TZID=Europe/Moscow:20220902T175500
DTEND;TZID=Europe/Moscow:20220902T193000
DESCRIPTION:Leonova N.M. A22-202
SUMMARY:Methodology of Planning and Conducting Scientific Research
RRULE:FREQ=WEEKLY;UNTIL=20221223T193000;INTERVAL=2;WKST=MO
END:VEVENT
BEGIN:VEVENT
DTSTAMP:20260419T222614Z
UID:ffa60d5f-aa86-4783-ba57-6340731700ba
DTSTART;TZID=Europe/Moscow:20220913T175500
DTEND;TZID=Europe/Moscow:20220913T193000
DESCRIPTION:Aleshinskaya E.V. A22-202
SUMMARY:Foreign Language
RRULE:FREQ=WEEKLY;UNTIL=20221004T193000;WKST=MO
END:VEVENT
BEGIN:VEVENT
DTSTAMP:20260419T222614Z
UID:1600e536-c091-4bd4-be1f-2ca020387837
DTSTART;TZID=Europe/Moscow:20221011T124500
DTEND;TZID=Europe/Moscow:20221011T142000
DESCRIPTION:Aleshinskaya E.V. A22-202
SUMMARY:Foreign Language
RRULE:FREQ=WEEKLY;UNTIL=20221227T142000;WKST=MO
END:VEVENT
END:VCALENDAR
