BEGIN:VCALENDAR
VERSION:2.0
PRODID:icalendar-ruby
CALSCALE:GREGORIAN
METHOD:PUBLISH
BEGIN:VTIMEZONE
TZID:Europe/Moscow
BEGIN:STANDARD
DTSTART:19700101T000000
TZOFFSETFROM:+0300
TZOFFSETTO:+0300
TZNAME:MSK
END:STANDARD
END:VTIMEZONE
BEGIN:VEVENT
DTSTAMP:20260420T151757Z
UID:096f6b77-2782-44e1-ae1b-3363175dfe73
DTSTART;TZID=Europe/Moscow:20220926T184500
DTEND;TZID=Europe/Moscow:20220926T202000
DESCRIPTION:Tolokonskiy A.O.\, Lebedev V.O. A20-609
LOCATION:6A-2
SUMMARY:Management and Security Systems at Nuclear Power Stations
RRULE:FREQ=WEEKLY;UNTIL=20221219T202000;INTERVAL=2;WKST=MO
END:VEVENT
BEGIN:VEVENT
DTSTAMP:20260420T151757Z
UID:1a1e9ad6-d0a4-4f11-938a-7cd1110ed95c
DTSTART;TZID=Europe/Moscow:20220926T202500
DTEND;TZID=Europe/Moscow:20220926T220000
DESCRIPTION:Tolokonskiy A.O.\, Lebedev V.O. A20-609
LOCATION:6A-2
SUMMARY:Management and Security Systems at Nuclear Power Stations
RRULE:FREQ=WEEKLY;UNTIL=20221219T220000;INTERVAL=2;WKST=MO
END:VEVENT
END:VCALENDAR
